BEGIN:VCALENDAR
VERSION:2.0
PRODID:-//ChamberMaster//Event Calendar 2.0//EN
METHOD:PUBLISH
X-PUBLISHED-TTL:P3D
REFRESH-INTERVAL:P3D
CALSCALE:GREGORIAN
BEGIN:VEVENT
DTSTART:20130411T180000Z
DTEND:20130411T190000Z
X-MICROSOFT-CDO-ALLDAYEVENT:FALSE
SUMMARY:Dixie Forum: A Window to the World
DESCRIPTION:Dixie State University's weekly "Dixie Forum: A Window on the World" convocation series continues its historical "Unheard Voices" format for the 2013 spring semester with a discussion on "Gender History and Medieval Art" by DSU art history professor Dr. Nancy Ross.\n\n	\n\n	Dr. Ross is an internationally renowned expert in gender theory and medieval art. She received her M.A. in Art History from the University of St. Andrews (Scotland) in 2002\, and her Ph.D. in the History of Art from the University of Cambridge in 2007. Her current research interests include women and gender in Early Christian Art\, Gothic Apocalypse manuscripts and their readers\, and Apocalypse iconography throughout the Middle Ages.\n\n	\n\n	The Dixie Forum series introduced a new format at the beginning of the 2013 spring semester\, and features historical topics ranging from civil rights\, military conflicts and the arts\, among other subjects. The final forum for the spring semester will feature a presentation on hate crimes by Erin Davies on Thursday\, April 18th. Davies\, herself a former hate crime victim\, is the founder of the "Fagbug Project\," and the star of the award winning documentary aptly named after the project. More information about the "Fagbug Project" can be found online at www.fagbug.com.
X-ALT-DESC;FMTTYPE=text/html:<p>\n	<span style="font-family:times new roman\,serif\;"><span style="font-size:14px\;"><span style="font-family: arial\;">Dixie State University&#39\;s weekly &quot\;Dixie Forum: A Window on the World&quot\; convocation series continues its historical &quot\;Unheard Voices&quot\; format for the 2013 spring semester with a discussion on &quot\;Gender History and Medieval Art&quot\; by DSU art history professor Dr. Nancy Ross.<br />\n	<br />\n	Dr. Ross is an internationally renowned expert in gender theory and medieval art. She received her M.A. in Art History from the University of St. Andrews (Scotland) in 2002\, and her Ph.D. in the History of Art from the University of Cambridge in 2007. Her current research interests include women and gender in Early Christian Art\, Gothic Apocalypse manuscripts and their readers\, and Apocalypse iconography throughout the Middle Ages.<br />\n	<br />\n	The Dixie Forum series introduced a new format at the beginning of the 2013 spring semester\, and features historical topics ranging from civil rights\, military conflicts and the arts\, among other subjects. The final forum for the spring semester will feature a presentation on hate crimes by Erin Davies on Thursday\, April 18th. Davies\, herself a former hate crime victim\, is the founder of the &quot\;Fagbug Project\,&quot\; and the star of the award winning documentary aptly named after the project. More information about the &quot\;Fagbug Project&quot\; can be found online at <a href="http://www.fagbug.com" target="_blank">www.fagbug.com</a>.</span></span></span></p>\n
LOCATION:Dixie State College Dunford Auditorium of the Browning Resource Center
UID:e.1117.2933
SEQUENCE:3
DTSTAMP:20260422T060531Z
URL:https://business.stgeorgechamber.com/events/details/dixie-forum-a-window-to-the-world-04-11-2013-2933
END:VEVENT

END:VCALENDAR
