BEGIN:VCALENDAR
VERSION:2.0
PRODID:-//ChamberMaster//Event Calendar 2.0//EN
METHOD:PUBLISH
X-PUBLISHED-TTL:P3D
REFRESH-INTERVAL:P3D
CALSCALE:GREGORIAN
BEGIN:VEVENT
DTSTART:20140408T180000Z
DTEND:20140408T190000Z
X-MICROSOFT-CDO-ALLDAYEVENT:FALSE
SUMMARY:Dixie Forum: A Window to the World
DESCRIPTION:David Bish\, Professor of Mineralogy at Indiana University-Bloomington and Haydn Murray\, Chair of Applied Clay Mineralogy\n\n	Topic: Mars Science Laboratory Experiment
X-ALT-DESC;FMTTYPE=text/html:<p>\n	<font face="arial"><span style="font-size: 14px\;">David Bish\, Professor of Mineralogy at Indiana University-Bloomington and Haydn Murray\, Chair of Applied Clay Mineralogy<br />\n	Topic: Mars Science Laboratory Experiment</span></font></p>\n
LOCATION:Dixie State University Dunford Auditorium of the Browning Resource Center
UID:e.1117.5036
SEQUENCE:3
DTSTAMP:20260421T112222Z
URL:https://business.stgeorgechamber.com/events/details/dixie-forum-a-window-to-the-world-04-08-2014-5036
END:VEVENT

END:VCALENDAR
