BEGIN:VCALENDAR
VERSION:2.0
PRODID:-//ChamberMaster//Event Calendar 2.0//EN
METHOD:PUBLISH
X-PUBLISHED-TTL:P3D
REFRESH-INTERVAL:P3D
CALSCALE:GREGORIAN
BEGIN:VEVENT
DTSTART:20140325T180000Z
DTEND:20140325T190000Z
X-MICROSOFT-CDO-ALLDAYEVENT:FALSE
SUMMARY:Dixie Forum: A Window to the World
DESCRIPTION:Dixie State University's weekly "Dixie Forum: A Window on the World" forum series continues with a presentation by Steve Babcock of the Evolution Bureau (EVB) in Colorado. \n\n\n\nBabcock serves as executive creative director at EVB\, which is a full service creative agency that specializes in digital and social media. Prior to his time at EVB\, he was a vice president and executive creative director at Crispin Porter + Bogusky (CP+B) in Boulder\, Colo.\, where he worked for six years. Babcock worked on accounts including Volkswagen\, Geek Squad and Amex OPEN\, and managed Domino's Pizza\, Guitar Hero\, Best Buy and Applebee's\, among other accounts. Babcock has won several industry awards for his team's creative campaign that helped Domino's Pizza turn its reputation around\, including a 2009 Cannes Integrated Lion for "You Got 30 Minutes\," and a slew of Pencils\, Lions and Clios for the "Domino's Pizza Tracker." \n\n \n\nThe Dixie Forum is a lecture series designed to introduce DSU students\, faculty\, and the St. George community to diverse ideas and personalities and to widen their world views. Forum lectures are free and open to the general public for participation. Dixie students can earn one college credit by signing up for HUM 1000\, attending lectures regularly\, carefully considering the ideas expressed\, and writing about the presentations.\n\n\n\nThe weekly Dixie Forum series will continue its 2014 Spring Semester slate on Tuesday\, April 1\, featuring presentations by several DSU students as part of the annual Dixie State Research Day.
X-ALT-DESC;FMTTYPE=text/html:<p><span style="font-size:14px\;"><span style="font-family:arial\;"><span style="color:black\;">Dixie State University&rsquo\;s weekly &ldquo\;Dixie Forum: A Window on the World&rdquo\; forum series continues with a presentation by </span><span style="color:black\;">Steve Babcock of the Evolution Bureau (EVB) in Colorado.&nbsp\;</span><br />\n<br />\n<span style="color:black\;">Babcock serves as executive creative director at EVB\, which is a full service creative agency that specializes in digital and social media. Prior to his time at EVB\, he was a vice president and executive creative director at Crispin Porter + Bogusky (CP+B) in Boulder\, Colo.\, where he worked for six years. Babcock worked on accounts including Volkswagen\, Geek Squad and Amex OPEN\, and managed Domino&rsquo\;s Pizza\, Guitar Hero\, Best Buy and Applebee&rsquo\;s\, among other accounts. Babcock has won several industry awards for his team&rsquo\;s creative campaign that helped Domino&#39\;s Pizza turn its reputation around\, including a 2009 Cannes Integrated Lion for &ldquo\;You Got 30 Minutes\,&rdquo\; and a slew of Pencils\, Lions and Clios for the &ldquo\;Domino&#39\;s Pizza Tracker.&rdquo\; </span><br />\n&nbsp\;<br />\n<span style="color:black\;">The Dixie Forum is a lecture series designed to introduce DSU students\, faculty\, and the St. George community to diverse ideas and personalities and to widen their world views. Forum lectures are free and open to the general public for participation. Dixie students can earn one college credit by signing up for HUM 1000\, attending lectures regularly\, carefully considering the ideas expressed\, and writing about the presentations.</span><br />\n<br />\n<span style="color:black\;">The weekly Dixie Forum series will continue its 2014 Spring Semester slate on Tuesday\, April 1\, featuring presentations by several DSU students as part of the annual Dixie State Research Day.</span></span></span></p>\n
LOCATION:Dixie State University Dunford Auditorium of the Browning Resource Center
UID:e.1117.5034
SEQUENCE:3
DTSTAMP:20260421T125726Z
URL:https://business.stgeorgechamber.com/events/details/dixie-forum-a-window-to-the-world-03-25-2014-5034
END:VEVENT

END:VCALENDAR
