BEGIN:VCALENDAR
VERSION:2.0
PRODID:-//ChamberMaster//Event Calendar 2.0//EN
METHOD:PUBLISH
X-PUBLISHED-TTL:P3D
REFRESH-INTERVAL:P3D
CALSCALE:GREGORIAN
BEGIN:VEVENT
DTSTART:20150324T060000Z
DTEND:20150324T070000Z
X-MICROSOFT-CDO-ALLDAYEVENT:FALSE
SUMMARY:Dixie Forum: A Window to the World
DESCRIPTION:Today's Dixie Forum will feature Caitlin Horrocks and Todd Kaneko\, presenting on poetry.\n\n \n\nDixie Forum is a lecture series designed to introduce the St. George community and DSU students\, faculty and staff to diverse ideas and personalities while widening their worldviews via a 50-minute presentation. \n\n\n\nThe remainder of the spring Dixie Forum schedule is below. All forums will be at noon on Tuesdays in the Dunford Auditorium of the Browning Resource Center on the DSU campus. \n\n\n\nTuesday\, March 31 - Ross D. Parke\, presenting "Fatherhood: Remembering the Past\, Imagining the Future" \n\n\n\nTuesday\, April 7 - Josh Udall\, presenting on cotton genomics and DNA sequencing \n\n\n\nTuesday\, April 14 - David Wolske\, creative director of Book Arts Program and Red Butte Press\, presenting on typography and design \n\n\n\nTuesday\, April 21 - Rico E. Del Sesto\, Tracey O'Kelly\, and the Sustainability Committee\, presenting on Earth Day
X-ALT-DESC;FMTTYPE=text/html:<span style="font-family: tahoma\; line-height: 20.7999992370605px\;">Today&#39\;s Dixie Forum will feature&nbsp\;</span><span style="font-family: tahoma\; line-height: 20.7999992370605px\;">Caitlin&nbsp\;</span>Horrocks<span style="font-family: tahoma\; line-height: 20.7999992370605px\;">&nbsp\;and Todd&nbsp\;</span>Kaneko<span style="font-family: tahoma\; line-height: 20.7999992370605px\;">\, presenting on poetry.<br />\n&nbsp\;</span><br />\n<span style="font-family:tahoma\;">Dixie Forum is a lecture series designed to introduce the St. George community and DSU students\, faculty and staff to diverse ideas and personalities while widening their worldviews via a 50-minute presentation.&nbsp\;<br />\n<br />\nThe remainder of the spring Dixie Forum schedule is below. All forums will be at&nbsp\;<span data-term="goog_1932431726" style="border-bottom-width:1px\;border-bottom-style:dashed\;position:relative\;top:-2px\;z-index:0\;" tabindex="0"><span style="position:relative\;top:2px\;z-index:-1\;">noon</span></span>&nbsp\;on Tuesdays in the Dunford Auditorium of the Browning Resource Center on the DSU campus.&nbsp\;<br />\n<br />\n<span data-term="goog_1932431730" style="border-bottom-width:1px\;border-bottom-style:dashed\;position:relative\;top:-2px\;z-index:0\;" tabindex="0"><span style="position:relative\;top:2px\;z-index:-1\;">Tuesday\, March 31</span></span>&nbsp\;- Ross D. Parke\, presenting &quot\;Fatherhood: Remembering the Past\, Imagining the Future&quot\;&nbsp\;<br />\n<br />\n<span data-term="goog_1932431731" style="border-bottom-width:1px\;border-bottom-style:dashed\;position:relative\;top:-2px\;z-index:0\;" tabindex="0"><span style="position:relative\;top:2px\;z-index:-1\;">Tuesday\, April 7</span></span>&nbsp\;- Josh Udall\, presenting on cotton genomics and DNA sequencing&nbsp\;<br />\n<br />\n<span data-term="goog_1932431732" style="border-bottom-width:1px\;border-bottom-style:dashed\;position:relative\;top:-2px\;z-index:0\;" tabindex="0"><span style="position:relative\;top:2px\;z-index:-1\;">Tuesday\, April 14</span></span>&nbsp\;- David Wolske\, creative director of Book Arts Program and Red Butte Press\, presenting on typography and design&nbsp\;<br />\n<br />\n<span data-term="goog_1932431733" style="border-bottom-width:1px\;border-bottom-style:dashed\;position:relative\;top:-2px\;z-index:0\;" tabindex="0"><span style="position:relative\;top:2px\;z-index:-1\;">Tuesday\, April 21</span></span>&nbsp\;- Rico E. Del Sesto\, Tracey O&#39\;Kelly\, and the Sustainability Committee\, presenting on Earth Day &nbsp\;&nbsp\;</span>
LOCATION:Dixie State University Dunford Auditorium
UID:e.1117.6332
SEQUENCE:3
DTSTAMP:20260420T203930Z
URL:https://business.stgeorgechamber.com/events/details/dixie-forum-a-window-to-the-world-03-24-2015-6332
END:VEVENT

END:VCALENDAR
