BEGIN:VCALENDAR
VERSION:2.0
PRODID:-//ChamberMaster//Event Calendar 2.0//EN
METHOD:PUBLISH
X-PUBLISHED-TTL:P3D
REFRESH-INTERVAL:P3D
CALSCALE:GREGORIAN
BEGIN:VEVENT
DTSTART:20140304T190000Z
DTEND:20140304T200000Z
X-MICROSOFT-CDO-ALLDAYEVENT:FALSE
SUMMARY:Dixie Forum: A Window to the World
DESCRIPTION:Dixie State University's weekly noontime "Dixie Forum: A Window on the World" forum continues its 2014 Spring Semester discussion series Tuesday\, March 4\, with a presentation entitled "The Billionaires Classroom" by Dana Telford\, senior consultant for the Family Business Consulting Group. \n\n\n\nTelford has 15 years of experience solving family business problems\, and specializes in succession planning\, family governance\, board effectiveness\, strategy\, entrepreneurship and conflict management. He has advised hundreds of business families on six continents and in more than 18 different countries. Previous clients include members of the Forbes List of the world's wealthiest\, a royal family and founders of some of the world's largest organizations.\n\n\n\nTelford graduated with a Bachelor's of Arts degree from the University of Utah\, and earned a Master's of Business Administration degree from Harvard University. He co-authored Integrity Works: Strategies for Becoming a Trusted\, Respected and Admired Leader and the national best-seller The Integrity Advantage: How Taking the High Road Creates a Competitive Advantage.\n\n\n\nThe Dixie Forum is a lecture series designed to introduce DSU students\, faculty\, and the St. George community to diverse ideas and personalities and to widen their world views. Forum lectures are free and open to the general public for participation. Dixie students can earn one college credit by signing up for HUM 1000\, attending lectures regularly\, carefully considering the ideas expressed\, and writing about the presentations.\n\n\n\nFollowing DSU's Spring Break (March 10-14)\, the weekly Dixie Forum series will continue its 2014 Spring Semester schedule on Tuesday\, March 18\, featuring a presentation entitled "Research in Sugar in the Diet\, Toxicity Assessment and Detecting Health Declines in Mice" by University of Utah Biology Professor Wayne Potts.
X-ALT-DESC;FMTTYPE=text/html:<span style="font-size:14px\;"><span style="font-family:arial\;"><span style="color:black\;">Dixie State University&rsquo\;s weekly noontime &ldquo\;Dixie Forum: A Window on the World&rdquo\; forum continues its 2014 Spring Semester discussion series Tuesday\, March 4\, with a presentation entitled &ldquo\;The Billionaires Classroom&rdquo\; by Dana Telford\, senior consultant for the Family Business Consulting Group.&nbsp\;</span><br />\n<br />\n<span style="color:black\;">Telford has 15 years of experience solving family business problems\, and specializes in succession planning\, family governance\, board effectiveness\, strategy\, entrepreneurship and conflict management. He has advised hundreds of business families on six continents and in more than 18 different countries. Previous clients include members of the Forbes List of the world&rsquo\;s wealthiest\, a royal family and founders of some of the world&rsquo\;s largest organizations.<br />\n<br />\nTelford graduated with a Bachelor&rsquo\;s of Arts degree from the University of Utah\, and earned a Master&rsquo\;s of Business Administration degree from Harvard University. He co-authored <em>Integrity Works: Strategies for Becoming a Trusted\, Respected and Admired Leader</em> and the national best-seller <em>The Integrity Advantage: How Taking the High Road Creates a Competitive Advantage</em>.</span><br />\n<br />\n<span style="color:black\;">The Dixie Forum is a lecture series designed to introduce DSU students\, faculty\, and the St. George community to diverse ideas and personalities and to widen their world views. Forum lectures are free and open to the general public for participation. Dixie students can earn one college credit by signing up for HUM 1000\, attending lectures regularly\, carefully considering the ideas expressed\, and writing about the presentations.<br />\n<br />\nFollowing DSU&rsquo\;s Spring Break (March 10-14)\, the weekly Dixie Forum series will continue its 2014 Spring Semester schedule on Tuesday\, March 18\, featuring a presentation entitled &ldquo\;Research in Sugar in the Diet\, Toxicity Assessment and Detecting Health Declines in Mice&rdquo\; by University of Utah Biology Professor Wayne Potts.</span></span></span>
LOCATION:Dixie State University Dunford Auditorium of the Browning Resource Center
UID:e.1117.5032
SEQUENCE:3
DTSTAMP:20260421T142432Z
URL:https://business.stgeorgechamber.com/events/details/dixie-forum-a-window-to-the-world-03-04-2014-5032
END:VEVENT

END:VCALENDAR
