BEGIN:VCALENDAR
VERSION:2.0
PRODID:-//ChamberMaster//Event Calendar 2.0//EN
METHOD:PUBLISH
X-PUBLISHED-TTL:P3D
REFRESH-INTERVAL:P3D
CALSCALE:GREGORIAN
BEGIN:VEVENT
DTSTART:20150303T070000Z
DTEND:20150303T080000Z
X-MICROSOFT-CDO-ALLDAYEVENT:FALSE
SUMMARY:Dixie Forum: A Window to the World
DESCRIPTION:Dixie State University's weekly "Dixie Forum: A Window on the World" forum series continues Tuesday\, March 3\, featuring members of DSU's Undergraduate Research Committee and a number of student research presentations on a variety of topics.\n\nTuesday's forum is being held in conjuction with Dixie State hosting the Ninth-Annual Utah Conference on Undergraduate Research event\, which will be held on Friday\, Feb. 27\, at the Gardner Student Center. For more information on the event\, please visit www.dixie.edu/ucur.\n\n\n\nEstablished in 2011\, Dixie State Undergraduate Research encourages all students to participate in scholarly research and creative projects. The Undergraduate Research Committee is comprised of faculty\, students and interns who promote research opportunities\, mentor students who want to conduct research\, and organize events where students may share their work with academic communities\, including local\, state and national forums.\n\n\n\nDixie Forum is a lecture series designed to introduce the St. George community and DSU students\, faculty and staff to diverse ideas and personalities while widening their worldviews via a 50-minute presentation. The weekly series will continue following DSU's Spring Break (March 9-13) on Tuesday\, March 17\, with a presentation entitled "Cultural Understanding Through the Arts" by noted Vietnamese musician and filmmaker Tinh Mahoney. \n\n\n\nThe remainder of the spring Dixie Forum schedule is below. All forums will be at noon on Tuesdays in the Dunford Auditorium of the Browning Resource Center on the DSU campus. \n\n\n\nTuesday\, March 10 - No forum (Spring Break) \n\n\n\nTuesday\, March 17 - Tinh Mahoney\, presenting "Cultural Understanding Through the Arts" \n\n\n\nTuesday\, March 24 - Caitlin Horrocks and Todd Kaneko\, presenting on poetry \n\n\n\nTuesday\, March 31 - Ross D. Parke\, presenting "Fatherhood: Remembering the Past\, Imagining the Future" \n\n\n\nTuesday\, April 7 - Josh Udall\, presenting on cotton genomics and DNA sequencing \n\n\n\nTuesday\, April 14 - David Wolske\, creative director of Book Arts Program and Red Butte Press\, presenting on typography and design \n\n\n\nTuesday\, April 21 - Rico E. Del Sesto\, Tracey O'Kelly\, and the Sustainability Committee\, presenting on Earth Day
X-ALT-DESC;FMTTYPE=text/html:<span style="font-family:tahoma\;">Dixie State University&rsquo\;s weekly &ldquo\;Dixie Forum: A Window on the World&rdquo\; forum series continues <span data-term="goog_1932431720" style="border-bottom-width:1px\;border-bottom-style:dashed\;position:relative\;top:-2px\;z-index:0\;" tabindex="0"><span style="position:relative\;top:2px\;z-index:-1\;">Tuesday\, March 3</span></span>\, featuring members of DSU&rsquo\;s Undergraduate Research Committee and a number of student research presentations on a variety of topics.<br />\n<span data-term="goog_1932431722" style="border-bottom-width:1px\;border-bottom-style:dashed\;position:relative\;top:-2px\;z-index:0\;" tabindex="0"><span style="position:relative\;top:2px\;z-index:-1\;">Tuesday&rsquo\;s</span></span>&nbsp\;forum is being held in conjuction with Dixie State hosting the Ninth-Annual Utah Conference on Undergraduate Research event\, which will be held on&nbsp\;<span data-term="goog_1932431723" style="border-bottom-width:1px\;border-bottom-style:dashed\;position:relative\;top:-2px\;z-index:0\;" tabindex="0"><span style="position:relative\;top:2px\;z-index:-1\;">Friday\, Feb. 27</span></span>\, at the Gardner Student Center. For more information on the event\, please visit&nbsp\;<a href="http://www.dixie.edu/ucur" style="color:rgb(17\, 85\, 204)\;" target="_blank">www.dixie.edu/ucur</a>.</span><br />\n<br />\n<span style="font-family:tahoma\;">Established in 2011\, Dixie State Undergraduate Research encourages all students to participate in scholarly research and creative projects. The Undergraduate Research Committee is comprised of faculty\, students and interns who promote research opportunities\, mentor students who want to conduct research\, and organize events where students may share their work with academic communities\, including local\, state and national forums.<br />\n<br />\nDixie Forum is a lecture series designed to introduce the St. George community and DSU students\, faculty and staff to diverse ideas and personalities while widening their worldviews via a 50-minute presentation. The weekly series will continue following DSU&rsquo\;s Spring Break (<span data-term="goog_1932431724" style="border-bottom-width:1px\;border-bottom-style:dashed\;position:relative\;top:-2px\;z-index:0\;" tabindex="0"><span style="position:relative\;top:2px\;z-index:-1\;">March 9-13</span></span>) on Tuesday\, March 17\, with a presentation entitled &ldquo\;Cultural Understanding Through the Arts&rdquo\; by noted Vietnamese musician and filmmaker Tinh Mahoney.&nbsp\;<br />\n<br />\nThe remainder of the spring Dixie Forum schedule is below. All forums will be at&nbsp\;<span data-term="goog_1932431726" style="border-bottom-width:1px\;border-bottom-style:dashed\;position:relative\;top:-2px\;z-index:0\;" tabindex="0"><span style="position:relative\;top:2px\;z-index:-1\;">noon</span></span>&nbsp\;on Tuesdays in the Dunford Auditorium of the Browning Resource Center on the DSU campus.&nbsp\;<br />\n<br />\n<span data-term="goog_1932431727" style="border-bottom-width:1px\;border-bottom-style:dashed\;position:relative\;top:-2px\;z-index:0\;" tabindex="0"><span style="position:relative\;top:2px\;z-index:-1\;">Tuesday\, March 10</span></span>&nbsp\;- No forum (Spring Break)&nbsp\;<br />\n<br />\n<span data-term="goog_1932431728" style="border-bottom-width:1px\;border-bottom-style:dashed\;position:relative\;top:-2px\;z-index:0\;" tabindex="0"><span style="position:relative\;top:2px\;z-index:-1\;">Tuesday\, March 17</span></span>&nbsp\;- Tinh Mahoney\, presenting &quot\;Cultural Understanding Through the Arts&quot\;&nbsp\;<br />\n<br />\n<span data-term="goog_1932431729" style="border-bottom-width:1px\;border-bottom-style:dashed\;position:relative\;top:-2px\;z-index:0\;" tabindex="0"><span style="position:relative\;top:2px\;z-index:-1\;">Tuesday\, March 24</span></span>&nbsp\;- Caitlin Horrocks and Todd Kaneko\, presenting on poetry&nbsp\;<br />\n<br />\n<span data-term="goog_1932431730" style="border-bottom-width:1px\;border-bottom-style:dashed\;position:relative\;top:-2px\;z-index:0\;" tabindex="0"><span style="position:relative\;top:2px\;z-index:-1\;">Tuesday\, March 31</span></span>&nbsp\;- Ross D. Parke\, presenting &quot\;Fatherhood: Remembering the Past\, Imagining the Future&quot\;&nbsp\;<br />\n<br />\n<span data-term="goog_1932431731" style="border-bottom-width:1px\;border-bottom-style:dashed\;position:relative\;top:-2px\;z-index:0\;" tabindex="0"><span style="position:relative\;top:2px\;z-index:-1\;">Tuesday\, April 7</span></span>&nbsp\;- Josh Udall\, presenting on cotton genomics and DNA sequencing&nbsp\;<br />\n<br />\n<span data-term="goog_1932431732" style="border-bottom-width:1px\;border-bottom-style:dashed\;position:relative\;top:-2px\;z-index:0\;" tabindex="0"><span style="position:relative\;top:2px\;z-index:-1\;">Tuesday\, April 14</span></span>&nbsp\;- David Wolske\, creative director of Book Arts Program and Red Butte Press\, presenting on typography and design&nbsp\;<br />\n<br />\n<span data-term="goog_1932431733" style="border-bottom-width:1px\;border-bottom-style:dashed\;position:relative\;top:-2px\;z-index:0\;" tabindex="0"><span style="position:relative\;top:2px\;z-index:-1\;">Tuesday\, April 21</span></span>&nbsp\;- Rico E. Del Sesto\, Tracey O&#39\;Kelly\, and the Sustainability Committee\, presenting on Earth Day &nbsp\;&nbsp\;</span>
LOCATION:Dixie State University Dunford Auditorium
UID:e.1117.6330
SEQUENCE:3
DTSTAMP:20260420T190841Z
URL:https://business.stgeorgechamber.com/events/details/dixie-forum-a-window-to-the-world-03-03-2015-6330
END:VEVENT

END:VCALENDAR
