BEGIN:VCALENDAR
VERSION:2.0
PRODID:-//ChamberMaster//Event Calendar 2.0//EN
METHOD:PUBLISH
X-PUBLISHED-TTL:P3D
REFRESH-INTERVAL:P3D
CALSCALE:GREGORIAN
BEGIN:VEVENT
DTSTART:20140225T190000Z
DTEND:20140225T200000Z
X-MICROSOFT-CDO-ALLDAYEVENT:FALSE
SUMMARY:Dixie Forum: A Window to the World
DESCRIPTION:Dixie State University's weekly noontime "Dixie Forum: A Window on the World" forum continues its 2014 Spring Semester discussion series this Tuesday\, February 25\, with a discussion on advances in trauma care by Dixie Regional Medical Center (DRMC) Trauma Medical Director Dr. Greg Watson and registered nurse Kimberly Phillips. \n\n\n\nIn addition to his role as Trauma Medical Director\, Dr. Watson is one of five trauma surgeons at DRMC. Both he and Phillips will speak about the work they do and what makes Dixie Regional Medical Center unique in treating patients with traumatic injuries.\n\n\n\nThe Dixie Forum is a lecture series designed to introduce DSU students\, faculty\, and the St. George community to diverse ideas and personalities and to widen their world views. Forum lectures are free and open to the general public for participation. Dixie students can earn one college credit by signing up for HUM 1000\, attending lectures regularly\, carefully considering the ideas expressed\, and writing about the presentations.\n\n\n\nThe weekly Dixie Forum series will continue its 2014 Spring Semester slate on Tuesday\, March 4\, featuring a presentation entitled "The Billionaires Classroom" by local financial consultant Dana Telford.
X-ALT-DESC;FMTTYPE=text/html:<p><span style="font-size:14px\;"><span style="font-family:arial\;"><span style="color:black\;">Dixie State University&rsquo\;s weekly noontime &ldquo\;Dixie Forum: A Window on the World&rdquo\; forum continues its 2014 Spring Semester discussion series this Tuesday\, February 25\, with a discussion on advances in trauma care by Dixie Regional Medical Center (DRMC) Trauma Medical Director Dr. Greg Watson and registered nurse Kimberly Phillips.&nbsp\;</span><br />\n<br />\n<span style="color:black\;">In addition to his role as Trauma Medical Director\, Dr. Watson is one of five trauma surgeons at DRMC. Both he and Phillips will speak about the work they do and what makes Dixie Regional Medical Center unique in treating patients with traumatic injuries.<br />\n<br />\nThe Dixie Forum is a lecture series designed to introduce DSU students\, faculty\, and the St. George community to diverse ideas and personalities and to widen their world views. Forum lectures are free and open to the general public for participation. Dixie students can earn one college credit by signing up for HUM 1000\, attending lectures regularly\, carefully considering the ideas expressed\, and writing about the presentations.<br />\n<br />\nThe weekly Dixie Forum series will continue its 2014 Spring Semester slate on Tuesday\, March 4\, featuring a presentation entitled &ldquo\;The Billionaires Classroom&rdquo\; by local financial consultant Dana Telford.</span></span></span></p>\n
LOCATION:Dixie State University Dunford Auditorium of the Browning Resource Center
UID:e.1117.5031
SEQUENCE:3
DTSTAMP:20260421T142514Z
URL:https://business.stgeorgechamber.com/events/details/dixie-forum-a-window-to-the-world-02-25-2014-5031
END:VEVENT

END:VCALENDAR
