BEGIN:VCALENDAR
VERSION:2.0
PRODID:-//ChamberMaster//Event Calendar 2.0//EN
METHOD:PUBLISH
X-PUBLISHED-TTL:P3D
REFRESH-INTERVAL:P3D
CALSCALE:GREGORIAN
BEGIN:VEVENT
DTSTART:20140213T190000Z
DTEND:20140213T200000Z
X-MICROSOFT-CDO-ALLDAYEVENT:FALSE
SUMMARY:Dixie Forum: A Window to the World
DESCRIPTION:Matt Brandt\, Professional Photographer from Los Angeles\n\n	(Collaboration with Barnum Honors Lecture Series)\n\n	Topic:  Art\, Photography
X-ALT-DESC;FMTTYPE=text/html:<p>\n	<font face="arial"><span style="font-size: 14px\;">Matt Brandt\, Professional Photographer from Los Angeles<br />\n	(Collaboration with Barnum Honors Lecture Series)<br />\n	Topic: &nbsp\;Art\, Photography</span></font></p>\n
LOCATION:Dixie State University Dunford Auditorium of the Browning Resource Center
UID:e.1117.5030
SEQUENCE:3
DTSTAMP:20260421T154253Z
URL:https://business.stgeorgechamber.com/events/details/dixie-forum-a-window-to-the-world-02-13-2014-5030
END:VEVENT

END:VCALENDAR
