BEGIN:VCALENDAR
VERSION:2.0
PRODID:-//ChamberMaster//Event Calendar 2.0//EN
METHOD:PUBLISH
X-PUBLISHED-TTL:P3D
REFRESH-INTERVAL:P3D
CALSCALE:GREGORIAN
BEGIN:VEVENT
DTSTART:20140211T190000Z
DTEND:20140211T200000Z
X-MICROSOFT-CDO-ALLDAYEVENT:FALSE
SUMMARY:Dixie Forum: A Window to the World
DESCRIPTION:DSU Associate Professor Matt Morin\n\n	Topic:  "We are the World" to "Ohanglaman":  Music and Global Developmoent Discourse in East Africa's NGO Sector
X-ALT-DESC;FMTTYPE=text/html:<p>\n	<font face="arial"><span style="font-size: 14px\;">DSU&nbsp\;Associate Professor Matt Morin<br />\n	Topic: &nbsp\;&quot\;We are the World&quot\; to &quot\;Ohanglaman&quot\;: &nbsp\;Music and Global Developmoent&nbsp\;Discourse in East Africa&#39\;s NGO Sector</span></font></p>\n
LOCATION:Dixie State University Dunford Auditorium of the Browning Resource Center
UID:e.1117.5029
SEQUENCE:3
DTSTAMP:20260421T142544Z
URL:https://business.stgeorgechamber.com/events/details/dixie-forum-a-window-to-the-world-02-11-2014-5029
END:VEVENT

END:VCALENDAR
