BEGIN:VCALENDAR
VERSION:2.0
PRODID:-//ChamberMaster//Event Calendar 2.0//EN
METHOD:PUBLISH
X-PUBLISHED-TTL:P3D
REFRESH-INTERVAL:P3D
CALSCALE:GREGORIAN
BEGIN:VEVENT
DTSTART:20140204T190000Z
DTEND:20140204T200000Z
X-MICROSOFT-CDO-ALLDAYEVENT:FALSE
SUMMARY:Dixie Forum: A Window to the World
DESCRIPTION:DSU Adjunct Professor Shadman Bashir\n\n	Topic:  War\, Terrorism and the Future
X-ALT-DESC;FMTTYPE=text/html:<p>\n	<font face="arial"><span style="font-size: 14px\;">DSU Adjunct Professor Shadman&nbsp\;Bashir<br />\n	Topic: &nbsp\;War\, Terrorism and the Future</span></font></p>\n
LOCATION:Dixie State University Dunford Auditorium of the Browning Resource Center
UID:e.1117.5028
SEQUENCE:3
DTSTAMP:20260421T142432Z
URL:https://business.stgeorgechamber.com/events/details/dixie-forum-a-window-to-the-world-02-04-2014-5028
END:VEVENT

END:VCALENDAR
