BEGIN:VCALENDAR
VERSION:2.0
PRODID:-//ChamberMaster//Event Calendar 2.0//EN
METHOD:PUBLISH
X-PUBLISHED-TTL:P3D
REFRESH-INTERVAL:P3D
CALSCALE:GREGORIAN
BEGIN:VEVENT
DTSTART:20140128T190000Z
DTEND:20140128T200000Z
X-MICROSOFT-CDO-ALLDAYEVENT:FALSE
SUMMARY:Dixie Forum: A Window to the World
DESCRIPTION:Attorneys Kevin D. Swenson and Nathan Langston of Robert J. Debry\n\n	Topic:  Law Literacy 101
X-ALT-DESC;FMTTYPE=text/html:<p>\n	<font face="arial"><span style="font-size: 14px\;">Attorneys Kevin D. Swenson and Nathan Langston of Robert J. Debry<br />\n	Topic: &nbsp\;Law Literacy 101</span></font></p>\n
LOCATION:Dixie State University Dunford Auditorium of the Browning Resource Center
UID:e.1117.5027
SEQUENCE:3
DTSTAMP:20260421T170045Z
URL:https://business.stgeorgechamber.com/events/details/dixie-forum-a-window-to-the-world-01-28-2014-5027
END:VEVENT

END:VCALENDAR
