BEGIN:VCALENDAR
VERSION:2.0
PRODID:-//ChamberMaster//Event Calendar 2.0//EN
METHOD:PUBLISH
X-PUBLISHED-TTL:P3D
REFRESH-INTERVAL:P3D
CALSCALE:GREGORIAN
BEGIN:VEVENT
DTSTART:20160126T070000Z
DTEND:20160126T080000Z
X-MICROSOFT-CDO-ALLDAYEVENT:FALSE
SUMMARY:Dixie Forum: A Window to the World
DESCRIPTION:Don't miss the opportunity to listen to the bold new generation of brass entertainment when Dixie State University hosts Presidio Brass as part of its weekly lecture series "Dixie Forum: A Window on the World." \n\n\n\nAt the forum\, Presidio Brass will perform sections from their popular touring program\, "Sound of the Cinema\," and offer a preview of their program for next year. Additionally\, the band will ask the audience to participate in a game of "name that tune" and then open the floor for a question- and-answer session. \n\n\n\nAdditionally\, the quintet will perform a full concert as part of Dixie State University's Celebrity Concert Series. The performance is set for 7:30 p.m. on Tuesday\, Jan. 26\, in the M.K. Cox Performing Arts Center on the DSU campus. Tickets cost $25 and are available at www.dsutix.com. \n\n\n\nOriginally from San Diego\, Calif.\, the group of musicians has captivated audiences everywhere since 2006 and has made a trademark of their unique sound positioned together by a brass quintet\, piano and percussion instruments. In addition to performing as a quintet\, members of Presidio Brass regularly perform as a part of the Millennia Consort\, one of the nation's premiere brass\, organ and percussion ensembles. \n\n\n\nPresidio Brass has released four recordings: "Stolen Moments\," a collection of popular classic and jazz music\; "Christmas Day\," an album featuring well-loved holiday favorites\; "Sounds of the Cinema\," a selection of pieces from the quintet's tour with the same name\; and "Rhapsody in Brass\," a highlight of popular American music influenced by classical and jazz idioms. \n\n\n\nDixie Forum is a weekly lecture series designed to introduce the St. George community and DSU students\, faculty and staff to diverse ideas and personalities while widening their worldviews via a 50-minute presentation. Dixie Forum will be on recess next week\, but will return at noon on Tuesday\, Feb. 9\, in the Dunford Auditorium in the Browning Resource Center with a presentation from Jen Johnson\, manager of Labor and Delivery at Dixie Regional Medical Center.
X-ALT-DESC;FMTTYPE=text/html:<p><span style="font-size:14px\;"><span style="font-family:arial\;"><span style="color: rgb(0\, 0\, 0)\; line-height: normal\;">Don&#39\;t miss the opportunity to listen to the bold new generation of brass entertainment when Dixie State University hosts Presidio Brass as part of its weekly lecture series &quot\;Dixie Forum: A Window on the World.&quot\;&nbsp\;</span><br style="font-family: Tahoma\, Geneva\, sans-serif\; color: rgb(0\, 0\, 0)\; font-size: 12px\; line-height: normal\;" />\n<br style="font-family: Tahoma\, Geneva\, sans-serif\; color: rgb(0\, 0\, 0)\; font-size: 12px\; line-height: normal\;" />\n<span style="color: rgb(0\, 0\, 0)\; line-height: normal\;">At the forum\, Presidio Brass will perform sections from their popular touring program\, &quot\;Sound of the Cinema\,&quot\; and offer a preview of their program for next year. Additionally\, the band will ask the audience to participate in a game of &quot\;name that tune&quot\; and then open the floor for a question- and-answer session. </span><br style="font-family: Tahoma\, Geneva\, sans-serif\; color: rgb(0\, 0\, 0)\; font-size: 12px\; line-height: normal\;" />\n<br style="font-family: Tahoma\, Geneva\, sans-serif\; color: rgb(0\, 0\, 0)\; font-size: 12px\; line-height: normal\;" />\n<span style="color: rgb(0\, 0\, 0)\; line-height: normal\;">Additionally\, the quintet will perform a full concert as part of Dixie State University&#39\;s Celebrity Concert Series. The performance is set for 7:30 p.m. on Tuesday\, Jan. 26\, in the M.K. Cox Performing Arts Center on the DSU campus. Tickets cost $25 and are available at www.dsutix.com.&nbsp\;</span><br style="font-family: Tahoma\, Geneva\, sans-serif\; color: rgb(0\, 0\, 0)\; font-size: 12px\; line-height: normal\;" />\n<br style="font-family: Tahoma\, Geneva\, sans-serif\; color: rgb(0\, 0\, 0)\; font-size: 12px\; line-height: normal\;" />\n<span style="color: rgb(0\, 0\, 0)\; line-height: normal\;">Originally from San Diego\, Calif.\, the group of musicians has captivated audiences everywhere since 2006 and has made a trademark of their unique sound positioned together by a brass quintet\, piano and percussion instruments. In addition to performing as a quintet\, members of Presidio Brass regularly perform as a part of the Millennia Consort\, one of the nation&#39\;s premiere brass\, organ and percussion ensembles.&nbsp\;</span><br style="font-family: Tahoma\, Geneva\, sans-serif\; color: rgb(0\, 0\, 0)\; font-size: 12px\; line-height: normal\;" />\n<br style="font-family: Tahoma\, Geneva\, sans-serif\; color: rgb(0\, 0\, 0)\; font-size: 12px\; line-height: normal\;" />\n<span style="color: rgb(0\, 0\, 0)\; line-height: normal\;">Presidio Brass has released four recordings: &quot\;Stolen Moments\,&quot\; a collection of popular classic and jazz music\; &quot\;Christmas Day\,&quot\; an album featuring well-loved holiday favorites\; &quot\;Sounds of the Cinema\,&quot\; a selection of pieces from the quintet&#39\;s tour with the same name\; and &quot\;Rhapsody in Brass\,&quot\; a highlight of popular American music influenced by classical and jazz idioms.&nbsp\;</span><br style="font-family: Tahoma\, Geneva\, sans-serif\; color: rgb(0\, 0\, 0)\; font-size: 12px\; line-height: normal\;" />\n<br style="font-family: Tahoma\, Geneva\, sans-serif\; color: rgb(0\, 0\, 0)\; font-size: 12px\; line-height: normal\;" />\n<span style="color: rgb(0\, 0\, 0)\; line-height: normal\;">Dixie Forum is a weekly lecture series designed to introduce the St. George community and DSU students\, faculty and staff to diverse ideas and personalities while widening their worldviews via a 50-minute presentation. Dixie Forum will be on recess next week\, but will return at noon on Tuesday\, Feb. 9\, in the Dunford Auditorium in the Browning Resource Center with a presentation from Jen Johnson\, manager of Labor and Delivery at Dixie Regional Medical Center.&nbsp\;</span></span></span></p>\n
LOCATION:Zion Room on the fifth floor of the Holland Centennial Commons on the DSU campus.
UID:e.1117.8438
SEQUENCE:3
DTSTAMP:20260420T031222Z
URL:https://business.stgeorgechamber.com/events/details/dixie-forum-a-window-to-the-world-01-26-2016-8438
END:VEVENT

END:VCALENDAR
