BEGIN:VCALENDAR
VERSION:2.0
PRODID:-//ChamberMaster//Event Calendar 2.0//EN
METHOD:PUBLISH
X-PUBLISHED-TTL:P3D
REFRESH-INTERVAL:P3D
CALSCALE:GREGORIAN
BEGIN:VEVENT
DTSTART:20140308T010000Z
DTEND:20140308T050000Z
X-MICROSOFT-CDO-ALLDAYEVENT:FALSE
SUMMARY:Dixie Fest
DESCRIPTION:American Authors and Uprising Paint Fight are coming to St. George for Dixie Fest 2014\, sponsored by the Dixie State University Student Association (DSUSA) on Friday\, March 7.\n\n	\n\n	Working closely with the City of St. George\, DSUSA has planned a unique outdoor concert experience being held at the Ridgetop Complex\, which is located at the old St. George Municipal Airport. In addition to the concert and paint fight\, Dixie Fest will offer BMX biking\, break dancers\, an aerialist\, and much more.   \n\n	 \n\n	"Building on the success of last year's Macklemore and Ryan Lewis concert\, DSUSA has partnered with another amazing up-and-coming artist\, American Authors\, and added additional events to create a one of a kind festival that can't be found anywhere else in the state\," says Jordon Sharp\, DSU Director of Student Involvement and Leadership. "You won't want to miss it."\n\n	 \n\n	"Of all the events this spring\, I am most looking forward to Dixie Fest\," says Jordyn Hanevold\, Vice-President of Student Life for the DSUSA. "It's exciting and new\; there's such a large variety of things taking place at it."\n\n	\n\n	American Authors is a Brooklyn-based rock band who was recently chosen as VH1's "You Oughta Know" artist for February. The group has made television appearances on NBC's Today Show\, ABC's Live with Kelly and Michael\, NBC's The Tonight Show with Jay Leno\, VH1 Big Morning Buzz Live\, and CBS's The Late Late Show with Craig Ferguson\, in addition to an appearance on the CW's The Carrie Diaries.  "Best Day of My Life" is the lead track from American Authors' debut EP on Island Records\, which hit #1 on the Billboard Heatseekers chart. In addition\, "Best Day of My Life" was bolstered by prominent placements in a Lowe's TV ad\, a trailer for the films Delivery Man and The Secret Life Of Walter Mitty\, a Major League Baseball Fan Cave commercial\, and the opening sequence of this year's ESPN World Series Of Poker coverage. The band's first full length album\, entitled "Oh\, What a Life" is set for release on March 4\, 2014.
X-ALT-DESC;FMTTYPE=text/html:<p>\n	<span style="font-size:14px\;"><span style="font-family:arial\;"><span style="color:black\;">American Authors and Uprising Paint Fight are coming to St. George for Dixie Fest 2014\, sponsored by the Dixie State University Student Association (DSUSA) on Friday\, March 7.</span><br />\n	<br />\n	<span style="color:black\;">Working closely with the City of St. George\, DSUSA has planned a unique outdoor concert experience being held at the Ridgetop Complex\, which is located at the old St. George Municipal Airport. In addition to the concert and paint fight\, Dixie Fest will offer BMX biking\, break dancers\, an aerialist\, and much more.&nbsp\;&nbsp\; </span><br />\n	&nbsp\;<br />\n	<span style="color:black\;">&quot\;Building on the success of last year&#39\;s Macklemore and Ryan Lewis concert\, DSUSA has partnered with another amazing up-and-coming artist\, American Authors\, and added additional events to create a one of a kind festival that can&#39\;t be found anywhere else in the state\,&rdquo\; says Jordon Sharp\, DSU Director of Student Involvement and Leadership. &quot\;You won&#39\;t want to miss it.&rdquo\;</span><br />\n	&nbsp\;<br />\n	<span style="color:black\;">&quot\;Of all the events this spring\, I am most looking forward to Dixie Fest\,&quot\; says Jordyn Hanevold\, Vice-President of Student Life for the DSUSA. &quot\;It&#39\;s exciting and new\; there&#39\;s such a large variety of things taking place at it.&quot\;<br />\n	<br />\n	American Authors is a Brooklyn-based rock band who was recently chosen as VH1&rsquo\;s &ldquo\;You Oughta Know&rdquo\; artist for February. The group has made television appearances on NBC&rsquo\;s <em>Today Show</em>\, ABC&rsquo\;s <em>Live with Kelly and Michael</em>\, NBC&rsquo\;s&nbsp\;<em>The Tonight Show</em>&nbsp\;<em>with Jay Leno</em>\, VH1&nbsp\;<em>Big Morning Buzz Live</em>\, and CBS&rsquo\;s&nbsp\;<em>The Late Late Show</em>&nbsp\;<em>with Craig Ferguson</em>\, in addition to an appearance on the CW&rsquo\;s&nbsp\;<em>The Carrie Diaries</em>.&nbsp\; </span><span style="color:black\;">&ldquo\;Best Day of My Life&rdquo\;&nbsp\;is the lead track from&nbsp\;American Authors&rsquo\;&nbsp\;debut EP on Island Records\, which hit #1 on the <em>Billboard Heatseekers</em> chart. In addition\, &ldquo\;Best Day of My Life&rdquo\;&nbsp\;was bolstered by prominent placements in a Lowe&rsquo\;s TV ad\, a trailer for the films&nbsp\;<em>Delivery Man</em>&nbsp\;and<em> The Secret Life Of Walter Mitty</em>\, a Major League Baseball Fan Cave commercial\, and the opening sequence of this year&rsquo\;s ESPN&nbsp\;<em>World Series Of Poker</em>&nbsp\;coverage.&nbsp\;The band&rsquo\;s first full length album\, entitled &ldquo\;Oh\, What a Life&rdquo\; is set for release on March 4\, 2014.</span></span></span></p>\n
LOCATION:Ridgetop Complex
UID:e.1117.5086
SEQUENCE:3
DTSTAMP:20260421T125419Z
URL:https://business.stgeorgechamber.com/events/details/dixie-fest-03-07-2014-5086
END:VEVENT

END:VCALENDAR
