BEGIN:VCALENDAR
VERSION:2.0
PRODID:-//ChamberMaster//Event Calendar 2.0//EN
METHOD:PUBLISH
X-PUBLISHED-TTL:P3D
REFRESH-INTERVAL:P3D
CALSCALE:GREGORIAN
BEGIN:VEVENT
DTSTART;VALUE=DATE:20130420
DTEND;VALUE=DATE:20130421
TRANSP:TRANSPARENT
X-MICROSOFT-CDO-ALLDAYEVENT:TRUE
SUMMARY:Dixie Esclante Kite Festival
DESCRIPTION:The Dixie Escalante Kite Festival aims to promote reading as a habit and encourage students to engage in family-oriented physical activity. On the day of the event\, qualifying students earn a high-quality kite or book for their reading efforts.
X-ALT-DESC;FMTTYPE=text/html:The Dixie Escalante Kite Festival aims to promote reading as a habit and encourage students to engage in family-oriented physical activity. On the day of the event\, qualifying students earn a high-quality kite or book for their reading efforts. 
LOCATION:SunRiver Golf Course
UID:e.1117.2327
SEQUENCE:3
DTSTAMP:20260422T061811Z
URL:https://business.stgeorgechamber.com/events/details/dixie-esclante-kite-festival-04-20-2013-2327
END:VEVENT

END:VCALENDAR
