BEGIN:VCALENDAR
VERSION:2.0
PRODID:-//ChamberMaster//Event Calendar 2.0//EN
METHOD:PUBLISH
X-PUBLISHED-TTL:P3D
REFRESH-INTERVAL:P3D
CALSCALE:GREGORIAN
BEGIN:VEVENT
DTSTART:20151028T233000Z
DTEND:20151029T013000Z
X-MICROSOFT-CDO-ALLDAYEVENT:FALSE
SUMMARY:Dixie Athletics Trunk or Treat
DESCRIPTION:Dixie State University Athletics is hosting the hit annual trunk-or-treating\n\nevent that is fun for kids of all ages! DSU Athletic Teams will be dressed up in costumes passing out candy to all of our trunk-ortreaters.\n\nCome out to this great family event for some special Halloween entertainment provided by Dixie State Student-Athletes.
X-ALT-DESC;FMTTYPE=text/html:Dixie State University Athletics is hosting the hit annual trunk-or-treating<br />\nevent that is fun for kids of all ages! DSU Athletic Teams will&nbsp\;be dressed up in costumes passing out candy to all of our trunk-ortreaters.<br />\nCome out to this great family event for some special&nbsp\;Halloween entertainment provided by Dixie State Student-Athletes.
LOCATION:Hansen Stadium Dixie State University
UID:e.1117.7277
SEQUENCE:3
DTSTAMP:20260420T065033Z
URL:https://business.stgeorgechamber.com/events/details/dixie-athletics-trunk-or-treat-10-28-2015-7277
END:VEVENT

END:VCALENDAR
