BEGIN:VCALENDAR
VERSION:2.0
PRODID:-//ChamberMaster//Event Calendar 2.0//EN
METHOD:PUBLISH
X-PUBLISHED-TTL:P3D
REFRESH-INTERVAL:P3D
CALSCALE:GREGORIAN
BEGIN:VEVENT
DTSTART;VALUE=DATE:20140501
DTEND;VALUE=DATE:20140601
TRANSP:TRANSPARENT
X-MICROSOFT-CDO-ALLDAYEVENT:TRUE
SUMMARY:Display your Business inside Costco Wholesale
DESCRIPTION:Display your Business inside Costco Wholesale for the entire month of May!\n\nAll proceeds will be donated to Primary Children's Medical Center. \n\nThere are two options....\n\n1.  $500 5ft banner + $70 cost of the banner and you get to keep the banner.\n\n2.  $100 3ft paper balloon.  Your information on an 8 1/2 x 11 sheet will be attached to the balloon.\n\n\n\nCostco has approximately 4\,000 members per week\, so that is great exposure. \n\n\n\nContact Melissa Lund (435) 256-0010 or w672mkt01@costco.com
X-ALT-DESC;FMTTYPE=text/html:<strong>Display your Business inside Costco Wholesale for the entire month of May!<br />\nAll proceeds will be donated to Primary Children&#39\;s Medical Center. </strong><br />\nThere are two options....<br />\n1.&nbsp\; $500 5ft banner + $70 cost of the banner and you get to&nbsp\;keep the banner.<br />\n2.&nbsp\; $100 3ft paper balloon.&nbsp\; Your information on an&nbsp\;8 1/2 x 11 sheet will be attached to the balloon.<br />\n<br />\nCostco has approximately 4\,000 members per week\, so that is&nbsp\;great exposure.&nbsp\;<br />\n<br />\nContact Melissa Lund (435) 256-0010 or <a href="mailto:w672mkt01@costco.com">w672mkt01@costco.com</a><br />\n&nbsp\;
LOCATION:St. George Costco Wholesale/672 835 N. 3050 E. St. George\, UT 84790
UID:e.1117.5110
SEQUENCE:3
DTSTAMP:20260421T095935Z
URL:https://business.stgeorgechamber.com/events/details/display-your-business-inside-costco-wholesale-05-01-2014-5110
END:VEVENT

END:VCALENDAR
