BEGIN:VCALENDAR
VERSION:2.0
PRODID:-//ChamberMaster//Event Calendar 2.0//EN
METHOD:PUBLISH
X-PUBLISHED-TTL:P3D
REFRESH-INTERVAL:P3D
CALSCALE:GREGORIAN
BEGIN:VEVENT
DTSTART:20151004T013000Z
DTEND:20151004T040000Z
X-MICROSOFT-CDO-ALLDAYEVENT:FALSE
SUMMARY:Disney's When You Wish at Tuacahn
DESCRIPTION:Over 71 years of Disney songs come to life on stage in this musical spectacular! Disney's When You Wish is sure to revive old memories and create new ones for every generation that has ever been swept away by the magical world of Disney!\n\nWish upon a star at Tuacahn with the premiere of Disney's When You Wish. Travel into a little girl's imagination on an enchanted journey through popular Disney classics\, including Mulan\, Tarzan\, Aladdin\, Newsies\, The Little Mermaid\, and many more surprises!\n\nWatch as your favorite characters come to life under the wonder of Tuacahn's crimson cliffs and star-filled sky. It makes no difference who you are\, this one-of-a-kind production will create lasting memories for both the young and the young at heart as they travel through the ages of Disney's spectacular music library.
X-ALT-DESC;FMTTYPE=text/html:Over 71 years of Disney songs come to life on stage in this musical spectacular! Disney&#39\;s When You Wish is sure to revive old memories and create new ones for every generation that has ever been swept away by the magical world of Disney!<br />\nWish upon a star at Tuacahn with the premiere of Disney&#39\;s When You Wish. Travel into a little girl&#39\;s imagination on an enchanted journey through popular Disney classics\, including Mulan\, Tarzan\, Aladdin\, Newsies\, The Little Mermaid\, and many more surprises!<br />\nWatch as your favorite characters come to life under the wonder of Tuacahn&#39\;s crimson cliffs and star-filled sky. It makes no difference who you are\, this one-of-a-kind production will create lasting memories for both the young and the young at heart as they travel through the ages of Disney&#39\;s spectacular music library.
LOCATION:Tuacahn Amphitheatre 1100 Tuacahn Drive Ivins\, UT 84738
UID:e.1117.6967
SEQUENCE:3
DTSTAMP:20260420T065221Z
URL:https://business.stgeorgechamber.com/events/details/disney-s-when-you-wish-at-tuacahn-10-03-2015-6967
END:VEVENT

END:VCALENDAR
