BEGIN:VCALENDAR
VERSION:2.0
PRODID:-//ChamberMaster//Event Calendar 2.0//EN
METHOD:PUBLISH
X-PUBLISHED-TTL:P3D
REFRESH-INTERVAL:P3D
CALSCALE:GREGORIAN
BEGIN:VEVENT
DTSTART:20130811T010000Z
DTEND:20130811T030000Z
X-MICROSOFT-CDO-ALLDAYEVENT:FALSE
SUMMARY:Disney's Mulan at Tuacahn
DESCRIPTION:Travel back to the legendary\, story-telling days of ancient China with this action-packed stage adaptation of Disney's Mulan. \n\n \n\nThe Huns have invaded\, and it is up to the misfit Mulan and her mischievous sidekick Mushu to save the Emperor! Disney's Mulan is a heartwarming celebration of culture\, honor and a fighting spirit. The score includes favorites like "Reflection\," "Honor to Us All" and "I'll Make a Man Out of You" as well as new songs that will get the audience up on its feet! \n\n \n\nThis 75 minute\, one act production is perfect for families and children 2 yrs and up. Presented by a professional adult cast in the indoor Hafen Theatre\, Disney's Mulan is sure to be a family favorite of Tuacahn's 2013 season!
X-ALT-DESC;FMTTYPE=text/html:Travel back to the legendary\, story-telling days of ancient China with this action-packed stage adaptation of Disney&rsquo\;s Mulan.&nbsp\;<br />\n&nbsp\;<br />\nThe Huns have invaded\, and it is up to the misfit Mulan and her mischievous sidekick Mushu to save the Emperor! Disney&#39\;s Mulan is a heartwarming celebration of culture\, honor and a fighting spirit. The score includes favorites like &ldquo\;Reflection\,&rdquo\; &ldquo\;Honor to Us All&rdquo\; and &ldquo\;I&rsquo\;ll Make a Man Out of You&rdquo\; as well as new songs that will get the audience up on its feet!&nbsp\;<br />\n&nbsp\;<br />\nThis 75 minute\, one act production is perfect for families and children 2 yrs and up. Presented by a professional adult cast in the indoor Hafen Theatre\, Disney&#39\;s Mulan is sure to be a family favorite of Tuacahn&#39\;s 2013 season!
LOCATION:Hafen Theater Tuacahn 1100 N. Tuacahn Dr. Ivins\, UT
UID:e.1117.4124
SEQUENCE:3
DTSTAMP:20260422T011325Z
URL:https://business.stgeorgechamber.com/events/details/disney-s-mulan-at-tuacahn-08-10-2013-4124
END:VEVENT

END:VCALENDAR
