BEGIN:VCALENDAR
VERSION:2.0
PRODID:-//ChamberMaster//Event Calendar 2.0//EN
METHOD:PUBLISH
X-PUBLISHED-TTL:P3D
REFRESH-INTERVAL:P3D
CALSCALE:GREGORIAN
BEGIN:VEVENT
DTSTART:20150912T024500Z
DTEND:20150912T050000Z
X-MICROSOFT-CDO-ALLDAYEVENT:FALSE
SUMMARY:Disney's Beauty & The Beast at Tuacahn
DESCRIPTION:Disney's Beauty and the Beast is the classic story of Belle\, a young woman in a provincial town\, and the Beast\, who is really a young prince trapped in a spell placed by an enchantress.\n\nIf the Beast can learn to love and be loved\, the curse will end and he will be transformed to his former self. But time is running out. If the Beast does not learn his lesson soon\, he and his household will be doomed for all eternity.
X-ALT-DESC;FMTTYPE=text/html:Disney&#39\;s Beauty and the Beast is the classic story of Belle\, a young woman in a provincial town\, and the Beast\, who is really a young prince trapped in a spell placed by an enchantress.<br />\nIf the Beast can learn to love and be loved\, the curse will end and he will be transformed to his former self. But time is running out. If the Beast does not learn his lesson soon\, he and his household will be doomed for all eternity.
LOCATION:Tuacahn Amphitheatre 1100 Tuacahn Drive Ivins\, UT 84738
UID:e.1117.6919
SEQUENCE:3
DTSTAMP:20260420T102119Z
URL:https://business.stgeorgechamber.com/events/details/disney-s-beauty-the-beast-at-tuacahn-09-11-2015-6919
END:VEVENT

END:VCALENDAR
