BEGIN:VCALENDAR
VERSION:2.0
PRODID:-//ChamberMaster//Event Calendar 2.0//EN
METHOD:PUBLISH
X-PUBLISHED-TTL:P3D
REFRESH-INTERVAL:P3D
CALSCALE:GREGORIAN
BEGIN:VEVENT
DTSTART:20150501T170000Z
DTEND:20150530T000000Z
X-MICROSOFT-CDO-ALLDAYEVENT:FALSE
SUMMARY:Disconnected
DESCRIPTION:Disconnected Co-curated by Jayden Hellewell and Steven Stradley Disconnection: to sever the connection of or between\, dissociate\, to become detached or withdrawn Disconnected: not connected\, not having parts joined together in a logical way How does contemporary culture alter connection or disconnection? The supposed antithesis of being disconnected would be interconnectedness\; however\, does the shift from one form of connectedness result in new manifestations of disconnect? This exhibition invites a group of young emerging artists and established artists to muse on the shifting state of being connected/disconnected.
X-ALT-DESC;FMTTYPE=text/html:Disconnected Co-curated by Jayden Hellewell and Steven Stradley Disconnection: to sever the connection of or between\, dissociate\, to become detached or withdrawn Disconnected: not connected\, not having parts joined together in a logical way How does contemporary culture alter connection or disconnection? The supposed antithesis of being disconnected would be interconnectedness\; however\, does the shift from one form of connectedness result in new manifestations of disconnect? This exhibition invites a group of young emerging artists and established artists to muse on the shifting state of being connected/disconnected.
LOCATION:The DiFiore Center
UID:e.1117.6345
SEQUENCE:3
DTSTAMP:20260420T154627Z
URL:https://business.stgeorgechamber.com/events/details/disconnected-05-01-2015-6345
END:VEVENT

END:VCALENDAR
