BEGIN:VCALENDAR
VERSION:2.0
PRODID:-//ChamberMaster//Event Calendar 2.0//EN
METHOD:PUBLISH
X-PUBLISHED-TTL:P3D
REFRESH-INTERVAL:P3D
CALSCALE:GREGORIAN
BEGIN:VEVENT
DTSTART:20160507T160000Z
DTEND:20160508T000000Z
X-MICROSOFT-CDO-ALLDAYEVENT:FALSE
SUMMARY:Dino Walkway Exhibit Grand Opening
DESCRIPTION:Please join us in celebrating the Grand Opening of our new exhibit: an indoor boardwalk that takes visitors out over the original track surface to see our most rare and spectacular tracks\, never before accessible to the public! Every child will receive a free Utah fossil with admission. Come meet our paleontologist and ask him all your dino questions! We will also have door prizes and kids crafts!
X-ALT-DESC;FMTTYPE=text/html:Please join us in celebrating the Grand Opening of our new exhibit: an indoor boardwalk that takes visitors out over the original track surface to see our most rare and spectacular tracks\, never before accessible to the public! Every child will receive a free Utah fossil with admission. Come meet our paleontologist and ask him all your dino questions! We will also have door prizes and kids crafts!
LOCATION:St George Dinosaur Discovery Site at Johnson Farm 2180 East Riverside Drive St George\, UT 84790
UID:e.1117.8555
SEQUENCE:3
DTSTAMP:20260419T183423Z
URL:https://business.stgeorgechamber.com/events/details/dino-walkway-exhibit-grand-opening-05-07-2016-8555
END:VEVENT

END:VCALENDAR
