BEGIN:VCALENDAR
VERSION:2.0
PRODID:-//ChamberMaster//Event Calendar 2.0//EN
METHOD:PUBLISH
X-PUBLISHED-TTL:P3D
REFRESH-INTERVAL:P3D
CALSCALE:GREGORIAN
BEGIN:VEVENT
DTSTART:20151202T170000Z
DTEND:20151206T040000Z
X-MICROSOFT-CDO-ALLDAYEVENT:FALSE
SUMMARY:Dickens Christmas Festival
DESCRIPTION:The sights and sounds of 19th Century London come alive at the Dickens' Christmas Festival.  This Festival is not just another craft show\, but a unique and unusual entertainment and shopping experience. Olde English shops\, hundreds of period costumes\, fortune tellers\, orphans\, royalty\, and the "real" Father Christmas all combine to offer our guests a Christmas experience like no other!
X-ALT-DESC;FMTTYPE=text/html:<span style="font-size:16px\;">The sights and sounds of 19th Century London come alive at the Dickens&#39\; Christmas Festival.&nbsp\; This Festival is not just another craft show\, but a unique and unusual entertainment and shopping experience. Olde English shops\, hundreds of period costumes\, fortune tellers\, orphans\, royalty\, and the &quot\;<i>real</i>&quot\; Father Christmas all combine to offer our guests a Christmas experience like no other!</span>
LOCATION:Dixie Convention Center 1835 Convention Center Dr. St. George\, UT 84790
UID:e.1117.7114
SEQUENCE:3
DTSTAMP:20260420T031608Z
URL:https://business.stgeorgechamber.com/events/details/dickens-christmas-festival-12-02-2015-7114
END:VEVENT

END:VCALENDAR
