BEGIN:VCALENDAR
VERSION:2.0
PRODID:-//ChamberMaster//Event Calendar 2.0//EN
METHOD:PUBLISH
X-PUBLISHED-TTL:P3D
REFRESH-INTERVAL:P3D
CALSCALE:GREGORIAN
BEGIN:VEVENT
DTSTART:20151119T023000Z
DTEND:20151122T040000Z
X-MICROSOFT-CDO-ALLDAYEVENT:FALSE
SUMMARY:DHHS Aida Production
DESCRIPTION:The Desert Hills High School Fine Arts Department proudly presents their fall musical selection adapted from the four-time TONY Award-winning hit- Aida: High School Edition. With music and lyrics written by Elton John and Tim Rice\, Aida is an epic tale of love\, loyalty and betrayal chronicling the love triangle between Aida\, a Nubian princess stolen from her county\, Amneris\, an Egyptian princess\, and Radames\, the soldier they both love. The curtain will go up each night on the Desert Hills stage beginning Thursday November 18th through Saturday November 21st at 7:30 pm. Reserve seating tickets are on sale now and can be purchased online atwww.dhhstheatre.org or through www.showtix4u.com (search Desert Hills High School ? Aida). What: Elton John and Tim Rice?s Aida (Musical) Where: Desert Hills High School Auditorium When: November 18\, 19\, 20\, 21 Time: 7:30 PM Tickets: Adults $10.00\, student/senior/children (under the age of 12) $8.00 www.dhhstheatre.org www.showtix4u.com (search Desert Hills High School ? Aida)
X-ALT-DESC;FMTTYPE=text/html:The Desert Hills High School Fine Arts Department proudly presents their fall musical selection adapted from the four-time TONY Award-winning hit- Aida: High School Edition. With music and lyrics written by Elton John and Tim Rice\, Aida is an epic tale of love\, loyalty and betrayal chronicling the love triangle between Aida\, a Nubian princess stolen from her county\, Amneris\, an Egyptian princess\, and Radames\, the soldier they both love. The curtain will go up each night on the Desert Hills stage beginning Thursday November 18th through Saturday November 21st at 7:30 pm. Reserve seating tickets are on sale now and can be purchased online atwww.dhhstheatre.org or through www.showtix4u.com (search Desert Hills High School ? Aida). What: Elton John and Tim Rice?s Aida (Musical) Where: Desert Hills High School Auditorium When: November 18\, 19\, 20\, 21 Time: 7:30 PM Tickets: Adults $10.00\, student/senior/children (under the age of 12) $8.00 www.dhhstheatre.org www.showtix4u.com (search Desert Hills High School ? Aida)
LOCATION:Desert Hills High School Auditorium 828 Desert Hills Dr E\, St George\, UT 84790
UID:e.1117.7283
SEQUENCE:3
DTSTAMP:20260420T050859Z
URL:https://business.stgeorgechamber.com/events/details/dhhs-aida-production-11-18-2015-7283
END:VEVENT

END:VCALENDAR
