BEGIN:VCALENDAR
VERSION:2.0
PRODID:-//ChamberMaster//Event Calendar 2.0//EN
METHOD:PUBLISH
X-PUBLISHED-TTL:P3D
REFRESH-INTERVAL:P3D
CALSCALE:GREGORIAN
BEGIN:VEVENT
DTSTART:20140823T010000Z
DTEND:20140929T030000Z
X-MICROSOFT-CDO-ALLDAYEVENT:FALSE
SUMMARY:Dewy Farmer Photography Exhibit
DESCRIPTION:The DiFiore Center is excited to debut the photography of local artist Dewy Farmer. Please join us August 22\, 2014 from 6:00-9:00 pm. Please come and meet this amazing photographer. Learn the decision process behind his photography. The Olive Brooks Esplin Art Gallery is open Wednesday to Saturday from 11:00am-6:00pm.
X-ALT-DESC;FMTTYPE=text/html:The DiFiore Center is excited to debut the photography of local artist Dewy Farmer. Please join us August 22\, 2014 from 6:00-9:00 pm. Please come and meet this amazing photographer. Learn the decision process behind his photography. The Olive Brooks Esplin Art Gallery is open Wednesday to Saturday from 11:00am-6:00pm.
LOCATION:The DiFiore Center 307 North Main Street St George\, Utah 84770
UID:e.1117.6035
SEQUENCE:3
DTSTAMP:20260421T054324Z
URL:https://business.stgeorgechamber.com/events/details/dewy-farmer-photography-exhibit-08-22-2014-6035
END:VEVENT

END:VCALENDAR
