BEGIN:VCALENDAR
VERSION:2.0
PRODID:-//ChamberMaster//Event Calendar 2.0//EN
METHOD:PUBLISH
X-PUBLISHED-TTL:P3D
REFRESH-INTERVAL:P3D
CALSCALE:GREGORIAN
BEGIN:VEVENT
DTSTART:20150702T170000Z
DTEND:20150731T000000Z
X-MICROSOFT-CDO-ALLDAYEVENT:FALSE
SUMMARY:Desert Rose Gallery Show
DESCRIPTION:Desert Rose Art Studio and Gallery will be displaying the work of their teachers and students the month of July at the Olive Brooks Esplin Gallery at the DiFiore Center. The gallery is open Tuesday through Saturday from 11:00 am to 6:00 pm. Opening reception will be held July 3rd from 6:00 to 8:00 pm.
X-ALT-DESC;FMTTYPE=text/html:Desert Rose Art Studio and Gallery will be displaying the work of their teachers and students the month of July at the Olive Brooks Esplin Gallery at the DiFiore Center. The gallery is open Tuesday through Saturday from 11:00 am to 6:00 pm. Opening reception will be held July 3rd from 6:00 to 8:00 pm.
LOCATION:The DiFiore Center
UID:e.1117.6469
SEQUENCE:3
DTSTAMP:20260420T121107Z
URL:https://business.stgeorgechamber.com/events/details/desert-rose-gallery-show-07-02-2015-6469
END:VEVENT

END:VCALENDAR
