BEGIN:VCALENDAR
VERSION:2.0
PRODID:-//ChamberMaster//Event Calendar 2.0//EN
METHOD:PUBLISH
X-PUBLISHED-TTL:P3D
REFRESH-INTERVAL:P3D
CALSCALE:GREGORIAN
BEGIN:VEVENT
DTSTART:20140915T173000Z
DTEND:20140915T190000Z
X-MICROSOFT-CDO-ALLDAYEVENT:FALSE
SUMMARY:Democrats of Southern Utah September Meeting
DESCRIPTION:The Democrats of Southern Utah will hold their September meeting on Monday\, September 15\, 2014 from 11:30 am to 1 pm at the Best Western Abbey Inn\, 1129 S. Bluff St.\, St. George.  Charles Stormont\, candidate for Utah Attorney General will be the speaker. $15/person for lunch\, no charge for meeting. Contact Marjorie Lisi 435-215-9899 or resdosu@gmail.com for reservations.  For additional information: www.thewashingtondems.com.
X-ALT-DESC;FMTTYPE=text/html:The Democrats of Southern Utah will hold their September meeting on Monday\, September 15\, 2014 from 11:30 am to 1 pm at the Best Western Abbey Inn\, 1129 S. Bluff St.\, St. George.&nbsp\; Charles Stormont\, candidate for Utah Attorney General will be the speaker. $15/person for lunch\, no charge for meeting. Contact Marjorie Lisi 435-215-9899 or resdosu@gmail.com for reservations.&nbsp\; For additional information: www.thewashingtondems.com.
LOCATION:Best Western Abbey Inn 1129 S. Bluff Street St. George\, Utah
UID:e.1117.6099
SEQUENCE:3
DTSTAMP:20260421T055800Z
URL:https://business.stgeorgechamber.com/events/details/democrats-of-southern-utah-september-meeting-09-15-2014-6099
END:VEVENT

END:VCALENDAR
