BEGIN:VCALENDAR
VERSION:2.0
PRODID:-//ChamberMaster//Event Calendar 2.0//EN
METHOD:PUBLISH
X-PUBLISHED-TTL:P3D
REFRESH-INTERVAL:P3D
CALSCALE:GREGORIAN
BEGIN:VEVENT
DTSTART:20130615T170000Z
DTEND:20130615T190000Z
X-MICROSOFT-CDO-ALLDAYEVENT:FALSE
SUMMARY:Democrats of Southern Utah Picnic
DESCRIPTION:We are having a picnic! The Democrats of Southern Utah will have a picnic on Saturday\, June 15th at Vernon Worthen Park from 11 a.m. to 1 p.m. Cost: bring a favorite dish to share and a serving untencil. Water\, soda and eating utencils will be provided.
X-ALT-DESC;FMTTYPE=text/html:<span style="color: rgb(0\, 0\, 0)\; font-family: 'Open Sans'\, Helvetica\, Arial\, sans-serif\; font-size: 14px\; line-height: 24px\;">We are having a picnic! The Democrats of Southern Utah will have a picnic on Saturday\, June 15th at Vernon Worthen Park from 11 a.m. to 1 p.m. Cost: bring a favorite dish to share and a serving untencil. Water\, soda and eating utencils will be provided.</span>
LOCATION:
UID:e.1117.4139
SEQUENCE:3
DTSTAMP:20260422T024408Z
URL:https://business.stgeorgechamber.com/events/details/democrats-of-southern-utah-picnic-06-15-2013-4139
END:VEVENT

END:VCALENDAR
