BEGIN:VCALENDAR
VERSION:2.0
PRODID:-//ChamberMaster//Event Calendar 2.0//EN
METHOD:PUBLISH
X-PUBLISHED-TTL:P3D
REFRESH-INTERVAL:P3D
CALSCALE:GREGORIAN
BEGIN:VEVENT
DTSTART:20141021T003000Z
DTEND:20141021T020000Z
X-MICROSOFT-CDO-ALLDAYEVENT:FALSE
SUMMARY:Democrats of Southern Utah October Meeting
DESCRIPTION:The Democrats of Southern Utah will hold their October meeting on Monday evening\, October 20\, 2014 from 6:30 pm to 8 pm at the Best Western Abbey Inn\, 1129 S. Bluff St.\, St. George. Local Democratic Party candidates for Utah House Districts and County Commissioner seats will be the speakers. $15/person for dinner\, no charge for meeting. Dinner reservations must be made in advance by contacting Marjorie Lisi 435-215-9899 or resdosu@gmail.com. For additional information: www.thewashingtondems.com.
X-ALT-DESC;FMTTYPE=text/html:The Democrats of Southern Utah will hold their October meeting on Monday evening\, October 20\, 2014 from 6:30 pm to 8 pm at the Best Western Abbey Inn\, 1129 S. Bluff St.\, St. George. Local Democratic Party candidates for Utah House Districts and County Commissioner seats will be the speakers. $15/person for dinner\, no charge for meeting. Dinner reservations must be made in advance by contacting Marjorie Lisi 435-215-9899 or resdosu@gmail.com. For additional information: www.thewashingtondems.com.
LOCATION:Best Western Abbey Inn 1129 S. Bluff Street St. George\, Utah 84770
UID:e.1117.6146
SEQUENCE:3
DTSTAMP:20260421T043653Z
URL:https://business.stgeorgechamber.com/events/details/democrats-of-southern-utah-october-meeting-10-20-2014-6146
END:VEVENT

END:VCALENDAR
