BEGIN:VCALENDAR
VERSION:2.0
PRODID:-//ChamberMaster//Event Calendar 2.0//EN
METHOD:PUBLISH
X-PUBLISHED-TTL:P3D
REFRESH-INTERVAL:P3D
CALSCALE:GREGORIAN
BEGIN:VEVENT
DTSTART:20141117T183000Z
DTEND:20141117T200000Z
X-MICROSOFT-CDO-ALLDAYEVENT:FALSE
SUMMARY:Democrats of Southern Utah November Meeting
DESCRIPTION:The Democrats of Southern Utah will hold their November meeting on Monday\, November 17\, 2014 from 11:30 am to 1 pm at the Best Western Abbey Inn\, 1129 S. Bluff St.\, St. George. Jinks Dabney\, Attorney at Law\, will discuss "Why It's Fun to be a Democrat in Southern Utah" $15/person for lunch\, no charge for meeting. Lunch reservations must be made in advance by contacting Marjorie Lisi 435-215-9899 or resdosu@gmail.com. For additional information: www.thewashingtondems.com.
X-ALT-DESC;FMTTYPE=text/html:The Democrats of Southern Utah will hold their November meeting on Monday\, November 17\, 2014 from 11:30 am to 1 pm at the Best Western Abbey Inn\, 1129 S. Bluff St.\, St. George. Jinks Dabney\, Attorney at Law\, will discuss &quot\;Why It&#39\;s Fun to be a Democrat in Southern Utah&quot\; $15/person for lunch\, no charge for meeting. Lunch reservations must be made in advance by contacting Marjorie Lisi 435-215-9899 or resdosu@gmail.com. For additional information: www.thewashingtondems.com.
LOCATION:Best Western Abbey Inn 1129 S. Bluff St.\, St. George
UID:e.1117.6198
SEQUENCE:3
DTSTAMP:20260421T030307Z
URL:https://business.stgeorgechamber.com/events/details/democrats-of-southern-utah-november-meeting-11-17-2014-6198
END:VEVENT

END:VCALENDAR
