BEGIN:VCALENDAR
VERSION:2.0
PRODID:-//ChamberMaster//Event Calendar 2.0//EN
METHOD:PUBLISH
X-PUBLISHED-TTL:P3D
REFRESH-INTERVAL:P3D
CALSCALE:GREGORIAN
BEGIN:VEVENT
DTSTART:20140517T180000Z
DTEND:20140517T203000Z
X-MICROSOFT-CDO-ALLDAYEVENT:FALSE
SUMMARY:Democrats of Southern Utah May Picnic
DESCRIPTION:The Democrats of Southern Utah will hold their May Pot Luck Picnic on Saturday\, May 17 from 12 pm to 2:30 pm at Vernon Worthen Park\, 300 S. 400 E.\, St. George. Meet and greet candidates running for office. Bring a dish to share ? drinks will be provided. For additional information\, please go to www.thewashingtondems.com.
X-ALT-DESC;FMTTYPE=text/html:The Democrats of Southern Utah will hold their May Pot Luck Picnic on Saturday\, May 17 from 12 pm to 2:30 pm at Vernon Worthen Park\, 300 S. 400 E.\, St. George. Meet and greet candidates running for office. Bring a dish to share ? drinks will be provided. For additional information\, please go to www.thewashingtondems.com.
LOCATION:Vernon Worthen Park\, 300 S. 400 E.\, St. George
UID:e.1117.5233
SEQUENCE:3
DTSTAMP:20260421T112609Z
URL:https://business.stgeorgechamber.com/events/details/democrats-of-southern-utah-may-picnic-05-17-2014-5233
END:VEVENT

END:VCALENDAR
