BEGIN:VCALENDAR
VERSION:2.0
PRODID:-//ChamberMaster//Event Calendar 2.0//EN
METHOD:PUBLISH
X-PUBLISHED-TTL:P3D
REFRESH-INTERVAL:P3D
CALSCALE:GREGORIAN
BEGIN:VEVENT
DTSTART:20140318T003000Z
DTEND:20140318T020000Z
X-MICROSOFT-CDO-ALLDAYEVENT:FALSE
SUMMARY:Democrats of Southern Utah March Meeting
DESCRIPTION:The Democrats of Southern Utah will hold their March meeting on Monday\, March 17\, 2014 from 6:30 pm to 8:00 pm at the Best Western Abbey Inn\, 1129 S. Bluff St.\, St. George. Tara Dunn will be the speaker. $15/person for dinner\, no charge for meeting. Contact Marjorie Lisi 435-215-9899 or resdosu@gmail.com for reservations. For additional speaker information\, please go to www.thewashingtondems.com.
X-ALT-DESC;FMTTYPE=text/html:The Democrats of Southern Utah will hold their March meeting on Monday\, March 17\, 2014 from 6:30 pm to 8:00 pm at the Best Western Abbey Inn\, 1129 S. Bluff St.\, St. George. Tara Dunn will be the speaker. $15/person for dinner\, no charge for meeting. Contact Marjorie Lisi 435-215-9899 or resdosu@gmail.com for reservations. For additional speaker information\, please go to www.thewashingtondems.com.
LOCATION:Best Western Abbey Inn\, 1129 S. Bluff St.\, St. George
UID:e.1117.5106
SEQUENCE:3
DTSTAMP:20260421T143156Z
URL:https://business.stgeorgechamber.com/events/details/democrats-of-southern-utah-march-meeting-03-17-2014-5106
END:VEVENT

END:VCALENDAR
