BEGIN:VCALENDAR
VERSION:2.0
PRODID:-//ChamberMaster//Event Calendar 2.0//EN
METHOD:PUBLISH
X-PUBLISHED-TTL:P3D
REFRESH-INTERVAL:P3D
CALSCALE:GREGORIAN
BEGIN:VEVENT
DTSTART:20140616T173000Z
DTEND:20140616T190000Z
X-MICROSOFT-CDO-ALLDAYEVENT:FALSE
SUMMARY:Democrats of Southern Utah June Meeting
DESCRIPTION:The Democrats of Southern Utah will hold their June meeting on Monday\, June 16\, 2014 from 11:30 am to 1 pm at the Best Western Abbey Inn\, 1129 S. Bluff St.\, St. George.  The meeting will be a ?Candidates Forum?.
X-ALT-DESC;FMTTYPE=text/html:The Democrats of Southern Utah will hold their June meeting on Monday\, June 16\, 2014 from 11:30 am to 1 pm at the Best Western Abbey Inn\, 1129 S. Bluff St.\, St. George.&nbsp\; The meeting will be a ?Candidates Forum?.
LOCATION:Best Western Abbey Inn\, 1129 S. Bluff St.\, St. George\, Ut 84770
UID:e.1117.5294
SEQUENCE:3
DTSTAMP:20260423T085623Z
URL:https://business.stgeorgechamber.com/events/details/democrats-of-southern-utah-june-meeting-06-16-2014-5294
END:VEVENT

END:VCALENDAR
