BEGIN:VCALENDAR
VERSION:2.0
PRODID:-//ChamberMaster//Event Calendar 2.0//EN
METHOD:PUBLISH
X-PUBLISHED-TTL:P3D
REFRESH-INTERVAL:P3D
CALSCALE:GREGORIAN
BEGIN:VEVENT
DTSTART:20141209T013000Z
DTEND:20141209T040000Z
X-MICROSOFT-CDO-ALLDAYEVENT:FALSE
SUMMARY:Democrats of Southern Utah Holiday Celebration
DESCRIPTION:The Democrats of Southern Utah will hold their Holiday Celebration on Monday\, December 8\, 2014 from 6:30 pm to 9 pm at the Best Western Abbey Inn\, 1129 S. Bluff St.\, St. George. Dinner and entertainment will be provided. Cost is $10 for members and $18 for guests. Reservations are MANDATORY ? contact Marjorie Lisi 435-215-9899 or resdosu@gmail.com to guarantee a seat. For additional information: www.thewashingtondems.com.
X-ALT-DESC;FMTTYPE=text/html:The Democrats of Southern Utah will hold their Holiday Celebration on Monday\, December 8\, 2014 from 6:30 pm to 9 pm at the Best Western Abbey Inn\, 1129 S. Bluff St.\, St. George. Dinner and entertainment will be provided. Cost is $10 for members and $18 for guests. Reservations are MANDATORY ? contact Marjorie Lisi 435-215-9899 or resdosu@gmail.com to guarantee a seat. For additional information: www.thewashingtondems.com.
LOCATION:Best Western Abbey Inn
UID:e.1117.6222
SEQUENCE:3
DTSTAMP:20260421T013129Z
URL:https://business.stgeorgechamber.com/events/details/democrats-of-southern-utah-holiday-celebration-12-08-2014-6222
END:VEVENT

END:VCALENDAR
