BEGIN:VCALENDAR
VERSION:2.0
PRODID:-//ChamberMaster//Event Calendar 2.0//EN
METHOD:PUBLISH
X-PUBLISHED-TTL:P3D
REFRESH-INTERVAL:P3D
CALSCALE:GREGORIAN
BEGIN:VEVENT
DTSTART:20140217T183000Z
DTEND:20140217T200000Z
X-MICROSOFT-CDO-ALLDAYEVENT:FALSE
SUMMARY:Democrats of Southern Utah February Meeting
DESCRIPTION:The Democrats of Southern Utah will hold their February meeting on Monday\, February 17\, 2014 from 11:30 a.m. to 1 p.m. at the Best Western Abbey Inn\, 1129 S. Bluff St.\, St. Linda Stay of Equality Utah will be the speaker. $15/person for lunch\, no charge for meeting. Contact Lee Ann Riddoch 435-319-0345 or ricky@somd.net for reservations. For additional speaker information\, please go to www.thewashingtondems.com.
X-ALT-DESC;FMTTYPE=text/html:The Democrats of Southern Utah will hold their February meeting on Monday\, February 17\, 2014 from 11:30 a.m. to 1 p.m. at the Best Western Abbey Inn\, 1129 S. Bluff St.\, St. Linda Stay of Equality Utah will be the speaker. $15/person for lunch\, no charge for meeting. Contact Lee Ann Riddoch 435-319-0345 or ricky@somd.net for reservations. For additional speaker information\, please go to www.thewashingtondems.com.
LOCATION:Best Western Abbey Inn 1129 S. Bluff St.
UID:e.1117.5073
SEQUENCE:3
DTSTAMP:20260421T143203Z
URL:https://business.stgeorgechamber.com/events/details/democrats-of-southern-utah-february-meeting-02-17-2014-5073
END:VEVENT

END:VCALENDAR
