BEGIN:VCALENDAR
VERSION:2.0
PRODID:-//ChamberMaster//Event Calendar 2.0//EN
METHOD:PUBLISH
X-PUBLISHED-TTL:P3D
REFRESH-INTERVAL:P3D
CALSCALE:GREGORIAN
BEGIN:VEVENT
DTSTART:20140421T173000Z
DTEND:20140421T190000Z
X-MICROSOFT-CDO-ALLDAYEVENT:FALSE
SUMMARY:Democrats of Southern Utah April Meeting
DESCRIPTION:The Democrats of Southern Utah will hold their April meeting on Monday\, April 21\, 2014 from 11:30 am to 1 pm at the Best Western Abbey Inn\, 1129 S. Bluff St.\, St. George. Caralee Woods\, chair of the Kane County Democrats\, will be the speaker. $15/person for lunch\, no charge for meeting. Contact Marjorie Lisi 435-215-9899 or resdosu@gmail.com for reservations. For additional speaker information\, please go to www.thewashingtondems.com.
X-ALT-DESC;FMTTYPE=text/html:The Democrats of Southern Utah will hold their April meeting on Monday\, April 21\, 2014 from 11:30 am to 1 pm at the Best Western Abbey Inn\, 1129 S. Bluff St.\, St. George. Caralee Woods\, chair of the Kane County Democrats\, will be the speaker. $15/person for lunch\, no charge for meeting. Contact Marjorie Lisi 435-215-9899 or resdosu@gmail.com for reservations. For additional speaker information\, please go to www.thewashingtondems.com.
LOCATION:Best Western Abbey Inn\, 1129 S. Bluff St.\, St. George\, Utah
UID:e.1117.5188
SEQUENCE:3
DTSTAMP:20260421T112738Z
URL:https://business.stgeorgechamber.com/events/details/democrats-of-southern-utah-april-meeting-04-21-2014-5188
END:VEVENT

END:VCALENDAR
