BEGIN:VCALENDAR
VERSION:2.0
PRODID:-//ChamberMaster//Event Calendar 2.0//EN
METHOD:PUBLISH
X-PUBLISHED-TTL:P3D
REFRESH-INTERVAL:P3D
CALSCALE:GREGORIAN
BEGIN:VEVENT
DTSTART:20131012T143000Z
DTEND:20131012T180000Z
X-MICROSOFT-CDO-ALLDAYEVENT:FALSE
SUMMARY:Dead or Alive 5k Race
DESCRIPTION:
X-ALT-DESC;FMTTYPE=text/html:
LOCATION:
UID:e.1117.4262
SEQUENCE:3
DTSTAMP:20260421T213315Z
URL:https://business.stgeorgechamber.com/events/details/dead-or-alive-5k-race-10-12-2013-4262
END:VEVENT

END:VCALENDAR
