BEGIN:VCALENDAR
VERSION:2.0
PRODID:-//ChamberMaster//Event Calendar 2.0//EN
METHOD:PUBLISH
X-PUBLISHED-TTL:P3D
REFRESH-INTERVAL:P3D
CALSCALE:GREGORIAN
BEGIN:VEVENT
DTSTART:20151010T143000Z
DTEND:20151010T180000Z
X-MICROSOFT-CDO-ALLDAYEVENT:FALSE
SUMMARY:Dead or Alive 5 and 10k Race
DESCRIPTION:*Pancake Breakfast\n\n*T-shirt and Swag Bags (for all participants)\n\n*Run new boardwalk trail\n\n*Family Friendly Costume Contest
X-ALT-DESC;FMTTYPE=text/html:*Pancake Breakfast<br />\n*T-shirt and Swag Bags (for all participants)<br />\n*Run new boardwalk trail<br />\n*Family Friendly Costume Contest
LOCATION:Sullivan Park in Washington City
UID:e.1117.7229
SEQUENCE:3
DTSTAMP:20260420T065031Z
URL:https://business.stgeorgechamber.com/events/details/dead-or-alive-5-and-10k-race-10-10-2015-7229
END:VEVENT

END:VCALENDAR
