BEGIN:VCALENDAR
VERSION:2.0
PRODID:-//ChamberMaster//Event Calendar 2.0//EN
METHOD:PUBLISH
X-PUBLISHED-TTL:P3D
REFRESH-INTERVAL:P3D
CALSCALE:GREGORIAN
BEGIN:VEVENT
DTSTART:20130728T020000Z
DTEND:20130728T040000Z
X-MICROSOFT-CDO-ALLDAYEVENT:FALSE
SUMMARY:David Correa and Cascada in Concert
DESCRIPTION:A concert featuring Latin Guitar and World Music. Cascada is the Spanish word for cascade or waterfall and the mesmerizing sounds of this ensemble will invoke emotions of peace and tranquility. \n\n\n\nSince 1999 this Latin Guitar World Fusion band from the San Francisco Bay Area has built a substantial fan base entertaining fans in every corner of the Bay Area. Keeping true to Latin and Spanish guitar techniques David's music continues to be an original new sound. David's Spanish Guitar music combines Latin folk and Rumba rhythms fused with middle eastern melodies\, creating a distinctive style. \n\n\n\nDavid Correa and Cascada have been entertaining with their passionate and distinctive blend of instrumental Latin Guitar World Music. Blending Spanish guitar with Afro-Cuban and Latin rhythms from Mexico & Central America and a hint of middle-eastern influenced melodies. \n\n\n\nThey have toured throughout the west coast\, northwest and southwest regions and have won numerous accolades and awards. Including 3 NORBAY awards for "Best Latin Band" in the San Francisco North Bay area three years in a row from 2005 through 2007. Signed to prestigious Baja/TSR Records in '06 and releasing "Rumba de la Selva" in 2007. In 2008 "Gypsy Spice" Best of New Flamenco was released and featured the track "Linda" from "Rumba de la Selva" along side artists such as Ottmar Liebert\, Jesse Cook\, Armik\, Young & Rollins\, Luis Villegas\, Behzad\, Govi and Benise. \n\n\n\nBetween 1999 and 2003 Correa released three independent CD's: "Cascada" in 1999 (Zocalo Records)\; "Alas del Viento" in 2001 (Zocalo Records) and "Incidents of Travel" in 2003 (Zocalo Records.) In 2009 "Best of CASCADA 1999-2009" was released on Zocalo Records and features 10 tracks from the past four recordings (Cascada\, Alas del Viento\, Incidents of Travel & Rumba de la Selva). David Correa's 5th CD "Eterna Primavera" was released on August 9th\, 2011. \n\n\n\nOn April 16\, 2013 "Guitar Greats III" - The Best of New Flamenco was released on Baja/TSR Records. This cd compilation features one of David Correa's tracks called "Amistad" alongside artist such as Jesse Cook\, Luis Villegas\, Johannes Linstead\, Incendio\, Armik\, Govi\, Oscar Lopez and many others.
X-ALT-DESC;FMTTYPE=text/html:<span style="font-family: Verdana\, Arial\, Helvetica\, sans-serif\; line-height: 18px\;">A concert featuring Latin Guitar and World Music. Cascada is the Spanish word for cascade or waterfall and the mesmerizing sounds of this ensemble will invoke emotions of peace and tranquility.&nbsp\;</span><br style="color: rgb(0\, 0\, 0)\; font-family: Verdana\, Arial\, Helvetica\, sans-serif\; line-height: 18px\;" />\n<br style="color: rgb(0\, 0\, 0)\; font-family: Verdana\, Arial\, Helvetica\, sans-serif\; line-height: 18px\;" />\n<span style="font-family: Verdana\, Arial\, Helvetica\, sans-serif\; line-height: 18px\;">Since 1999 this Latin Guitar World Fusion band from the San Francisco Bay Area has built a substantial fan base entertaining fans in every corner of the Bay Area. Keeping true to Latin and Spanish guitar techniques David&#39\;s music continues to be an original new sound. David&#39\;s Spanish Guitar music combines Latin folk and Rumba rhythms fused with middle eastern melodies\, creating a distinctive style.&nbsp\;</span><br style="color: rgb(0\, 0\, 0)\; font-family: Verdana\, Arial\, Helvetica\, sans-serif\; line-height: 18px\;" />\n<br style="color: rgb(0\, 0\, 0)\; font-family: Verdana\, Arial\, Helvetica\, sans-serif\; line-height: 18px\;" />\n<span style="font-family: Verdana\, Arial\, Helvetica\, sans-serif\; line-height: 18px\;">David Correa and Cascada have been entertaining with their passionate and distinctive blend of instrumental Latin Guitar World Music. Blending Spanish guitar with Afro-Cuban and Latin rhythms from Mexico &amp\; Central America and a hint of middle-eastern influenced melodies.&nbsp\;</span><br style="color: rgb(0\, 0\, 0)\; font-family: Verdana\, Arial\, Helvetica\, sans-serif\; line-height: 18px\;" />\n<br style="color: rgb(0\, 0\, 0)\; font-family: Verdana\, Arial\, Helvetica\, sans-serif\; line-height: 18px\;" />\n<span style="font-family: Verdana\, Arial\, Helvetica\, sans-serif\; line-height: 18px\;">They have toured throughout the west coast\, northwest and southwest regions and have won numerous accolades and awards. Including 3 NORBAY awards for &quot\;Best Latin Band&quot\; in the San Francisco North Bay area three years in a row from 2005 through 2007. Signed to prestigious Baja/TSR Records in &#39\;06 and releasing &quot\;Rumba de la Selva&quot\; in 2007. In 2008 &quot\;Gypsy Spice&quot\; Best of New Flamenco was released and featured the track &quot\;Linda&quot\; from &quot\;Rumba de la Selva&quot\; along side artists such as Ottmar Liebert\, Jesse Cook\, Armik\, Young &amp\; Rollins\, Luis Villegas\, Behzad\, Govi and Benise.&nbsp\;</span><br style="color: rgb(0\, 0\, 0)\; font-family: Verdana\, Arial\, Helvetica\, sans-serif\; line-height: 18px\;" />\n<br style="color: rgb(0\, 0\, 0)\; font-family: Verdana\, Arial\, Helvetica\, sans-serif\; line-height: 18px\;" />\n<span style="font-family: Verdana\, Arial\, Helvetica\, sans-serif\; line-height: 18px\;">Between 1999 and 2003 Correa released three independent CD&#39\;s: &quot\;Cascada&quot\; in 1999 (Zocalo Records)\; &quot\;Alas del Viento&quot\; in 2001 (Zocalo Records) and &quot\;Incidents of Travel&quot\; in 2003 (Zocalo Records.) In 2009 &quot\;Best of CASCADA 1999-2009&quot\; was released on Zocalo Records and features 10 tracks from the past four recordings (Cascada\, Alas del Viento\, Incidents of Travel &amp\; Rumba de la Selva). David Correa&#39\;s 5th CD &quot\;Eterna Primavera&quot\; was released on August 9th\, 2011.&nbsp\;</span><br style="color: rgb(0\, 0\, 0)\; font-family: Verdana\, Arial\, Helvetica\, sans-serif\; line-height: 18px\;" />\n<br style="color: rgb(0\, 0\, 0)\; font-family: Verdana\, Arial\, Helvetica\, sans-serif\; line-height: 18px\;" />\n<span style="font-family: Verdana\, Arial\, Helvetica\, sans-serif\; line-height: 18px\;">On April 16\, 2013 &quot\;Guitar Greats III&quot\; - The Best of New Flamenco was released on Baja/TSR Records. This cd compilation features one of David Correa&#39\;s tracks called &quot\;Amistad&quot\; alongside artist such as Jesse Cook\, Luis Villegas\, Johannes Linstead\, Incendio\, Armik\, Govi\, Oscar Lopez and many others.</span>
LOCATION:Tanner Amphitheater (one mile before the South entrance to Zion National Park) 350 Lion Blvd. Springdale\, UT
UID:e.1117.2971
SEQUENCE:3
DTSTAMP:20260422T023733Z
URL:https://business.stgeorgechamber.com/events/details/david-correa-and-cascada-in-concert-07-27-2013-2971
END:VEVENT

END:VCALENDAR
