BEGIN:VCALENDAR
VERSION:2.0
PRODID:-//ChamberMaster//Event Calendar 2.0//EN
METHOD:PUBLISH
X-PUBLISHED-TTL:P3D
REFRESH-INTERVAL:P3D
CALSCALE:GREGORIAN
BEGIN:VEVENT
DTSTART:20250314T180000Z
DTEND:20250314T190000Z
X-MICROSOFT-CDO-ALLDAYEVENT:FALSE
SUMMARY:Danville Networking Event | Networking Meeting Pot Luck
DESCRIPTION:Presented by\n\n \n\nDanville Support Services\n\nNETWORKING\n\nMEETING POT LUCK\n\nBRING A DISH\n\nor\n\na give a way
X-ALT-DESC;FMTTYPE=text/html:<div style="text-align: center\;">\n<p class="p1" style="margin: 0px\; font-variant-numeric: normal\; font-variant-east-asian: normal\; font-variant-alternates: normal\; font-kerning: auto\; font-optical-sizing: auto\; font-feature-settings: normal\; font-variation-settings: normal\; font-variant-position: normal\; font-stretch: normal\; font-size: 30px\; line-height: normal\; font-family: Helvetica\; color: rgb(0\, 0\, 0)\;"><span style="font-size:48px\;">Presented by</span><br />\n&nbsp\;</p>\n\n<p class="p1" style="margin: 0px\; font-variant-numeric: normal\; font-variant-east-asian: normal\; font-variant-alternates: normal\; font-kerning: auto\; font-optical-sizing: auto\; font-feature-settings: normal\; font-variation-settings: normal\; font-variant-position: normal\; font-stretch: normal\; font-size: 30px\; line-height: normal\; font-family: Helvetica\; color: rgb(0\, 0\, 0)\;"><span style="font-size:48px\;">Danville Support Services</span></p>\n\n<p class="p1" style="margin: 0px\; font-variant-numeric: normal\; font-variant-east-asian: normal\; font-variant-alternates: normal\; font-kerning: auto\; font-optical-sizing: auto\; font-feature-settings: normal\; font-variation-settings: normal\; font-variant-position: normal\; font-stretch: normal\; font-size: 65.7px\; line-height: normal\; font-family: Helvetica\; color: rgb(216\, 165\, 66)\;"><span style="font-size:36px\;"><span style="color:#008000\;">NETWORKING<br />\nMEETING POT LUCK</span></span><br />\n<span style="font-size:36px\;">BRING A DISH<br />\nor<br />\na give a way</span></p>\n</div>\n
LOCATION:136 N 100 E St. George\, Utah 84770
UID:e.1117.18046
SEQUENCE:3
DTSTAMP:20260421T125133Z
URL:https://business.stgeorgechamber.com/events/details/danville-networking-event-networking-meeting-pot-luck-18046
END:VEVENT

END:VCALENDAR
