BEGIN:VCALENDAR
VERSION:2.0
PRODID:-//ChamberMaster//Event Calendar 2.0//EN
METHOD:PUBLISH
X-PUBLISHED-TTL:P3D
REFRESH-INTERVAL:P3D
CALSCALE:GREGORIAN
BEGIN:VEVENT
DTSTART:20151112T150000Z
DTEND:20151115T000000Z
X-MICROSOFT-CDO-ALLDAYEVENT:FALSE
SUMMARY:CST SxS Adventure Rally
DESCRIPTION:A Gathering of Over 500 Side by Sides in Southern Utah. Enjoying The Thrill of Exploration\, The Excitement of Speed and the Fusion of Mother Nature & Machines. What is the Side x Side adventure at Sand Hollow? Side x Side adventure at Sand Hollow is a family friendly event with guided trail rides\, primarily rock crawling with some less technical scenic rides in and around Sand Hollow State Park in Hurricane\, Utah. Dates are November 12th\, 13th and 14th\, 2015. Come down to southern Utah and test drive the latest offerings from the top manufacturers\, take guided trail rides around Sand Hollow\, get fed and meet new people. There is plenty of dry-camping available on site. Average temp for November is Sunny and 65 degrees\, perfect riding weather! Even if you can't make it for the guided trail rides\, come for the test drives and open riding. Sand Hollow will be open for riding approx. 2pm once the guided trails are back. (Sand Hollow State Park charges a $10 day use fee to enter the park.)
X-ALT-DESC;FMTTYPE=text/html:A Gathering of Over 500 Side by Sides in Southern Utah. Enjoying The Thrill of Exploration\, The Excitement of Speed and the Fusion of Mother Nature &amp\; Machines. What is the Side x Side adventure at Sand Hollow? Side x Side adventure at Sand Hollow is a family friendly event with guided trail rides\, primarily rock crawling with some less technical scenic rides in and around Sand Hollow State Park in Hurricane\, Utah. Dates are November 12th\, 13th and 14th\, 2015. Come down to southern Utah and test drive the latest offerings from the top manufacturers\, take guided trail rides around Sand Hollow\, get fed and meet new people. There is plenty of dry-camping available on site. Average temp for November is Sunny and 65 degrees\, perfect riding weather! Even if you can&#39\;t make it for the guided trail rides\, come for the test drives and open riding. Sand Hollow will be open for riding approx. 2pm once the guided trails are back. (Sand Hollow State Park charges a $10 day use fee to enter the park.)
LOCATION:Sand Hollow State Park
UID:e.1117.7284
SEQUENCE:3
DTSTAMP:20260420T065222Z
URL:https://business.stgeorgechamber.com/events/details/cst-sxs-adventure-rally-11-12-2015-7284
END:VEVENT

END:VCALENDAR
