BEGIN:VCALENDAR
VERSION:2.0
PRODID:-//ChamberMaster//Event Calendar 2.0//EN
METHOD:PUBLISH
X-PUBLISHED-TTL:P3D
REFRESH-INTERVAL:P3D
CALSCALE:GREGORIAN
BEGIN:VEVENT
DTSTART:20130929T010000Z
DTEND:20130929T043000Z
X-MICROSOFT-CDO-ALLDAYEVENT:FALSE
SUMMARY:Crown Fighting Championships Mixed Martial Arts Sporting Event
DESCRIPTION:CFC is a local St. George based company with over 10 years of experience in MMA. From training & promoting local and professional fighters\, to supporting MMA events all over the U.S.A.\, CFC is St. George?s MMA connection. Mixed Martial Arts is one of the fastest growing sports in the world\, with events such as the UFC\, Strikeforce\, Bellator and many others being at the forefront of sporting events on cable TV & Pay-Per-View. Utah has produced top tier MMA fighters who have graced the MMA octagon\, such as Jeremy Horn\, Damerques Johnson\, Josh Burkman\, Brandon Melendez\, and the winner of the last ?The Ultimate Fighter? Reality Show\, Court McGee. CFC Showcases local professional & amateur fighters and matching them up with top fighters from Las Vegas\, Arizona\, Northern Utah and afar\, with nearly 2\,000 seats available\, we are sure to produce an incredible night of Fights & great entertainment that will leave spectators wanting more. There are many sponsorship levels available\, as one can imagine the event is well attended and is an exceptional vehicle to get your company?s message out! Learn how you can be a part of this great event by calling Dawn McLain 702-860-2341 or email dawn@writeituponline.com.
X-ALT-DESC;FMTTYPE=text/html:CFC is a local St. George based company with over 10 years of experience in MMA. From training &amp\; promoting local and professional fighters\, to supporting MMA events all over the U.S.A.\, CFC is St. George?s MMA connection. Mixed Martial Arts is one of the fastest growing sports in the world\, with events such as the UFC\, Strikeforce\, Bellator and many others being at the forefront of sporting events on cable TV &amp\; Pay-Per-View. Utah has produced top tier MMA fighters who have graced the MMA octagon\, such as Jeremy Horn\, Damerques Johnson\, Josh Burkman\, Brandon Melendez\, and the winner of the last ?The Ultimate Fighter? Reality Show\, Court McGee. CFC Showcases local professional &amp\; amateur fighters and matching them up with top fighters from Las Vegas\, Arizona\, Northern Utah and afar\, with nearly 2\,000 seats available\, we are sure to produce an incredible night of Fights &amp\; great entertainment that will leave spectators wanting more. There are many sponsorship levels available\, as one can imagine the event is well attended and is an exceptional vehicle to get your company?s message out! Learn how you can be a part of this great event by calling Dawn McLain 702-860-2341 or email dawn@writeituponline.com. 
LOCATION:Dixie Convention Center
UID:e.1117.4217
SEQUENCE:3
DTSTAMP:20260421T213829Z
URL:https://business.stgeorgechamber.com/events/details/crown-fighting-championships-mixed-martial-arts-sporting-event-09-28-2013-4217
END:VEVENT

END:VCALENDAR
