BEGIN:VCALENDAR
VERSION:2.0
PRODID:-//ChamberMaster//Event Calendar 2.0//EN
METHOD:PUBLISH
X-PUBLISHED-TTL:P3D
REFRESH-INTERVAL:P3D
CALSCALE:GREGORIAN
BEGIN:VEVENT
DTSTART:20130928T000000Z
DTEND:20130928T050000Z
X-MICROSOFT-CDO-ALLDAYEVENT:FALSE
SUMMARY:Crown Fighting Championship?s Fighter Weigh In
DESCRIPTION:Crown Fighting Championship?s Fighter Weigh In sponsored exclusively by Iggy?s! Join us as at Iggy's while we weigh in MMA Fighters for the Sept. 28\, 2013 Crown Fighting Championship VIII at the Dixie Center. The Weigh In party will include photo/autograph opportunities\, prizes and ticket promotions and food specials from Iggy?s.
X-ALT-DESC;FMTTYPE=text/html:Crown Fighting Championship?s Fighter Weigh In sponsored exclusively by Iggy?s! Join us as at Iggy&#39\;s while we weigh in MMA Fighters for the Sept. 28\, 2013 Crown Fighting Championship VIII at the Dixie Center. The Weigh In party will include photo/autograph opportunities\, prizes and ticket promotions and food specials from Iggy?s. 
LOCATION:Iggy's Sports Grill 148 S 1470 E\, St George\, UT 84790
UID:e.1117.4246
SEQUENCE:3
DTSTAMP:20260421T213649Z
URL:https://business.stgeorgechamber.com/events/details/crown-fighting-championship-s-fighter-weigh-in-09-27-2013-4246
END:VEVENT

END:VCALENDAR
