BEGIN:VCALENDAR
VERSION:2.0
PRODID:-//ChamberMaster//Event Calendar 2.0//EN
METHOD:PUBLISH
X-PUBLISHED-TTL:P3D
REFRESH-INTERVAL:P3D
CALSCALE:GREGORIAN
BEGIN:VEVENT
DTSTART:20160612T013000Z
DTEND:20160612T053000Z
X-MICROSOFT-CDO-ALLDAYEVENT:FALSE
SUMMARY:Country Jam 2016
DESCRIPTION:The first in The Trailblazers O.C. Tanner Summer Concert Series! Country Jam 2016 with Eric Dodge and the Randy Anderson Band. Line Dancing...Food...Fun!
X-ALT-DESC;FMTTYPE=text/html:The first in The Trailblazers O.C. Tanner Summer Concert Series! Country Jam 2016 with Eric Dodge and the Randy Anderson Band. Line Dancing...Food...Fun!
LOCATION:O.C. Tanner Amphitheater
UID:e.1117.8707
SEQUENCE:3
DTSTAMP:20260419T165005Z
URL:https://business.stgeorgechamber.com/events/details/country-jam-2016-06-11-2016-8707
END:VEVENT

END:VCALENDAR
