BEGIN:VCALENDAR
VERSION:2.0
PRODID:-//ChamberMaster//Event Calendar 2.0//EN
METHOD:PUBLISH
X-PUBLISHED-TTL:P3D
REFRESH-INTERVAL:P3D
CALSCALE:GREGORIAN
BEGIN:VEVENT
DTSTART:20150331T000000Z
DTEND:20150331T013000Z
X-MICROSOFT-CDO-ALLDAYEVENT:FALSE
SUMMARY:Cottontail Scramble
DESCRIPTION:Peter Cottontail is coming to Tonaquint Park on Monday\, March 30! The hunt is open for kids ages 2-8 years old. Kids can start check in and pick up their bag and craft at 5:15 pm. Peter will be at the park starting at 5:15 pm to take pictures. The Hunt will begin at 6 pm sharp! Parents can register for the event via on-line or in person at the St. George Recreation Center or the St. George Commons Building. The Scramble is $3.00 per child and includes a craft and hunt bag. You can purchase a picture with Peter Cottontail for only $2 at the event.
X-ALT-DESC;FMTTYPE=text/html:Peter Cottontail is coming to Tonaquint Park on Monday\, March 30! The hunt is open for kids ages 2-8 years old. Kids can start check in and pick up their bag and craft at 5:15 pm. Peter will be at the park starting at 5:15 pm to take pictures. The Hunt will begin at 6 pm sharp! Parents can register for the event via on-line or in person at the St. George Recreation Center or the St. George Commons Building. The Scramble is $3.00 per child and includes a craft and hunt bag. You can purchase a picture with Peter Cottontail for only $2 at the event.
LOCATION:Tonaquint Park 1851 South Dixie Drive
UID:e.1117.6369
SEQUENCE:3
DTSTAMP:20260420T203438Z
URL:https://business.stgeorgechamber.com/events/details/cottontail-scramble-03-30-2015-6369
END:VEVENT

END:VCALENDAR
