BEGIN:VCALENDAR
VERSION:2.0
PRODID:-//ChamberMaster//Event Calendar 2.0//EN
METHOD:PUBLISH
X-PUBLISHED-TTL:P3D
REFRESH-INTERVAL:P3D
CALSCALE:GREGORIAN
BEGIN:VEVENT
DTSTART:20150814T140000Z
DTEND:20150814T190000Z
X-MICROSOFT-CDO-ALLDAYEVENT:FALSE
SUMMARY:Corporate Sports Challenge
DESCRIPTION:We've postponed the Corporate Sports Challenge from 4/17/15 to Friday\, August 14th--same time and place\, same fun activities\, same great food and the same awesome trophy up for grabs. So mark your calendars now\, spread the word and join us for a morning of friendly competition\, networking and fun. All proceeds benefit The Learning Center for Families.
X-ALT-DESC;FMTTYPE=text/html:We&#39\;ve postponed the Corporate Sports Challenge from 4/17/15 to Friday\, August 14th--same time and place\, same fun activities\, same great food and the same awesome trophy up for grabs. So mark your calendars now\, spread the word and join us for a morning of friendly competition\, networking and fun. All proceeds benefit The Learning Center for Families.
LOCATION:Washington City Community Center
UID:e.1117.6394
SEQUENCE:3
DTSTAMP:20260420T103143Z
URL:https://business.stgeorgechamber.com/events/details/corporate-sports-challenge-08-14-2015-6394
END:VEVENT

END:VCALENDAR
