BEGIN:VCALENDAR
VERSION:2.0
PRODID:-//ChamberMaster//Event Calendar 2.0//EN
METHOD:PUBLISH
X-PUBLISHED-TTL:P3D
REFRESH-INTERVAL:P3D
CALSCALE:GREGORIAN
BEGIN:VEVENT
DTSTART:20140715T013000Z
DTEND:20140715T030000Z
X-MICROSOFT-CDO-ALLDAYEVENT:FALSE
SUMMARY:Concert in the Park--Todo Mundo
DESCRIPTION:Todo Mundo ("All the World") blends the musical flavors of Rumba\, Reggae\, Samba\, and Middle Eastern styles into an irresistible groove that has been moving dance floors and connecting with audiences from Southern California to South America since 2009.\n\nThrough music\, Todo Mundo has learned to share their soul and experiences with the world.  The power of music allows them to transmit their messages of equality and diversity.  The band is a manifestation of these messages\, containing talented musicians from all over the world (Columbia\, Israel\, Canada\, & the U.S.). Their music and performances possess explosive energy that celebrates life and unity\, with the aim of connecting with people from all over the world\, and encouraging them to live in the present\, as one.\n\nThe band is led by singer\, guitarist\, and songwriter Santiago Orozco\, a native of Colmbia.  In the summer of 2013\, Todo Mundo completed a successful 1 month tour of Colorado\, Utah\, New Mexico\, Arizona\, and Southern California to promote their new album Conexion\, which was officially released on October 15th\, 2013.  Todo Mundo will be touring the U.S. throughout the summer of 2014 and also has plans to tour outside of the U.S. this year.\n\nSponsored by the City of St. George with funding from the Utah Division of Arts and Museums\, the State of Utah and the National Endowment for the Arts. Concert in the Park 2014 Series is free to the public.  Don't miss the second Monday of each month April through September. Park seating is available\, bring blankets\, lawn chairs\, food and the family.
X-ALT-DESC;FMTTYPE=text/html:<p><span style="font-size:14px\;"><span style="font-family:arial\;">Todo Mundo (&ldquo\;All the World&rdquo\;) blends the musical flavors of Rumba\, Reggae\, Samba\, and Middle Eastern styles into an irresistible groove that has been moving dance floors and connecting with audiences from Southern California to South America since 2009.<br />\nThrough music\, Todo Mundo has learned to share their soul and experiences with the world.&nbsp\; The power of music allows them to transmit their messages of equality and diversity.&nbsp\; The band is a manifestation of these messages\, containing talented musicians from all over the world (Columbia\, Israel\, Canada\, &amp\; the U.S.). Their music and performances possess explosive energy that celebrates life and unity\, with the aim of connecting with people from all over the world\, and encouraging them to live in the present\, as one.<br />\nThe band is led by singer\, guitarist\, and songwriter Santiago Orozco\, a native of Colmbia.&nbsp\; In the summer of 2013\, Todo Mundo completed a successful 1 month tour of Colorado\, Utah\, New Mexico\, Arizona\, and Southern California to promote their new album Conexion\, which was officially released on October 15th\, 2013.&nbsp\; Todo Mundo will be touring the U.S. throughout the summer of 2014 and also has plans to tour outside of the U.S. this year.<br />\nSponsored by the City of St. George with funding from the Utah Division of Arts and Museums\, the State of Utah and the National Endowment for the Arts. Concert in the Park 2014 Series is free to the public.&nbsp\; Don&rsquo\;t miss the second Monday of each month April through September. Park seating is available\, bring blankets\, lawn chairs\, food and the family.&nbsp\;</span></span></p>\n
LOCATION:Vernon Worthen Park 300 South 400 East\, St. George
UID:e.1117.5890
SEQUENCE:3
DTSTAMP:20260421T071335Z
URL:https://business.stgeorgechamber.com/events/details/concert-in-the-park-todo-mundo-07-14-2014-5890
END:VEVENT

END:VCALENDAR
