BEGIN:VCALENDAR
VERSION:2.0
PRODID:-//ChamberMaster//Event Calendar 2.0//EN
METHOD:PUBLISH
X-PUBLISHED-TTL:P3D
REFRESH-INTERVAL:P3D
CALSCALE:GREGORIAN
BEGIN:VEVENT
DTSTART:20150609T013000Z
DTEND:20150609T030000Z
X-MICROSOFT-CDO-ALLDAYEVENT:FALSE
SUMMARY:Concert in the Park-Ted Vigil
DESCRIPTION:Ted Vigil is a singer\, songwriter and a tribute artist.  He was born in Seattle and raised in the Olympia area.  He has been performing from the age of ten throughout school in concert\, symphonic and jazz bands developing his talents as a drummer and singer.  Ted now performs nationwide for all kinds of venues and events.  He has wowed the crowd selling out theatres in Pennsylvania and Kansas and has played twice now for John Denver's own "Windstar Foundation" in Aspen\, CO.\n\n\n\nSponsored by the City of St. George with funding from the Utah Division of Arts and Museums\, the State of Utah and the National Endowment for the Arts. Concert in the Park 2015 Series is free to the public.  Park seating is available\, bring blankets\, lawn chairs\, food and the family.
X-ALT-DESC;FMTTYPE=text/html:<p><span style="color:#000000\;"><span style="font-size:14px\;"><span style="font-family:arial\;">Ted Vigil is a singer\, songwriter and a tribute artist. &nbsp\;He was born in Seattle and raised in the Olympia area. &nbsp\;He has been performing from the age of ten throughout school in concert\, symphonic and jazz bands developing his talents as a drummer and singer. &nbsp\;Ted now performs nationwide for all kinds of venues and events. &nbsp\;He has wowed the crowd selling out theatres in Pennsylvania and Kansas and has played twice now for John Denver&#39\;s own &quot\;Windstar Foundation&quot\; in Aspen\, CO.<br />\n<br />\nSponsored by the City of St. George with funding from the Utah Division of Arts and Museums\, the State of Utah and the National Endowment for the Arts. Concert in the Park 2015 Series is free to the public. &nbsp\;Park seating is available\, bring blankets\, lawn chairs\, food and the family.</span></span></span></p>\n
LOCATION:Vernon Worthen Park 300 South 400 East St. George
UID:e.1117.6472
SEQUENCE:3
DTSTAMP:20260420T152631Z
URL:https://business.stgeorgechamber.com/events/details/concert-in-the-park-ted-vigil-06-08-2015-6472
END:VEVENT

END:VCALENDAR
