BEGIN:VCALENDAR
VERSION:2.0
PRODID:-//ChamberMaster//Event Calendar 2.0//EN
METHOD:PUBLISH
X-PUBLISHED-TTL:P3D
REFRESH-INTERVAL:P3D
CALSCALE:GREGORIAN
BEGIN:VEVENT
DTSTART:20150414T013000Z
DTEND:20150414T030000Z
X-MICROSOFT-CDO-ALLDAYEVENT:FALSE
SUMMARY:Concert in the Park-Shaun Canon
DESCRIPTION:Shaun Canon's sultry voice can be heard on television\, radio\, and at concerts all over. Shaun got a boost in his career while being a top contestant on Season 7 of American Idol. Since then\, he's been pumping out hits and playing for crowds. His pops orchestra is a swing-feel band that plays covers and jazzy arrangements of pop tunes\, classics\, and other upbeat song.\n\n\n\nMore recently he performed on Bravo's Millionaire Matchmaker. He's opened for such major acts as Brian McKnight and Janelle Monae\, and was invited to the white house on two separate occasions to play for President George W. Bush.  In addition\, Shaun has several viral YouTube videos.\n\n \n\nSponsored by the City of St. George with funding from the Utah Division of Arts and Museums\, the State of Utah and the National Endowment for the Arts. Concert in the Park 2015 Series is free to the public.  Don't miss the second Monday of each month April through September. Park seating is available\, bring blankets\, lawn chairs\, food and the family.
X-ALT-DESC;FMTTYPE=text/html:<p><span style="color:#000000\;"><span style="font-size:14px\;"><span style="font-family:arial\;">Shaun Canon&rsquo\;s sultry voice can be heard on television\, radio\, and at concerts all over. Shaun got a boost in his career while being a top contestant on Season 7 of American Idol. Since then\, he&rsquo\;s been pumping out hits and playing for crowds. His pops orchestra is a swing-feel band that plays covers and jazzy arrangements of pop tunes\, classics\, and other upbeat song.<br />\n<br />\nMore recently he performed on Bravo&rsquo\;s Millionaire Matchmaker. He&rsquo\;s opened for such major acts as Brian McKnight and Janelle Monae\, and was invited to the white house on two separate occasions to play for President George W. Bush.&nbsp\; In addition\, Shaun has several viral YouTube videos.<br />\n&nbsp\;<br />\nSponsored by the City of St. George with funding from the Utah Division of Arts and Museums\, the State of Utah and the National Endowment for the Arts. Concert in the Park 2015 Series is free to the public.&nbsp\; Don&rsquo\;t miss the second Monday of each month April through September. Park seating is available\, bring blankets\, lawn chairs\, food and the family.</span></span></span></p>\n
LOCATION:Vernon Worthen Park 300 South 400 East St. George
UID:e.1117.6388
SEQUENCE:3
DTSTAMP:20260420T173424Z
URL:https://business.stgeorgechamber.com/events/details/concert-in-the-park-shaun-canon-04-13-2015-6388
END:VEVENT

END:VCALENDAR
