BEGIN:VCALENDAR
VERSION:2.0
PRODID:-//ChamberMaster//Event Calendar 2.0//EN
METHOD:PUBLISH
X-PUBLISHED-TTL:P3D
REFRESH-INTERVAL:P3D
CALSCALE:GREGORIAN
BEGIN:VEVENT
DTSTART:20160614T013000Z
DTEND:20160614T030000Z
X-MICROSOFT-CDO-ALLDAYEVENT:FALSE
SUMMARY:Concert in the Park-Rob Landes
DESCRIPTION:Based out of Salt Lake City\, Utah\, Rob Landes uses a looper to stack percussive sounds and melodies into complex harmonies\, and the results are "polished and beautiful...velvety"\, according to KSL.com.\n\nRob is an award-winning violinist who started playing the violin at 3 years in Orem\, Utah.  Born to a large musical family\, Rob gave his first solo recital at 10 years old\, performed in the Hollywood Bowl in Los Angeles on the Disney Channel with the Disney Young Musicians Symphony Orchestra\, and founded a piano trio that performed actively throughout his teenage years. Rob has won first prize at numerous music competitions and has soloed with the Utah Symphony\, Utah Valley Symphony\, San Diego Chamber Orchestra\, BYU Philharmonic\, and BYU Chamber Orchestra.\n\nAs a first violinist of the BYU Chamber Orchestra\, Rob performed in more than twenty cities throughout central and southern Europe\, and as concertmaster of the orchestra\, gave a concert to a sold-out audience in New York's Carnegie Hall. Rob was awarded full scholarships to attend Brigham Young University and Rice University where he earned a Bachelor's in Music and Master's in Music\, respectively.\n\nWhile studying at Rice\, Rob began covering rock and pop music\, and upon returning to Salt Lake City after graduation\, bought a looper pedal and an amp which he uses to create intricate and stunning arrangements of today and yesterday's most popular music.
X-ALT-DESC;FMTTYPE=text/html:<p>Based out of Salt Lake City\, Utah\, Rob Landes uses a looper to stack percussive sounds and melodies into complex harmonies\, and the results are &quot\;polished and beautiful...velvety&quot\;\, according to KSL.com.<br />\nRob is an award-winning violinist who started playing the violin at 3 years in Orem\, Utah.&nbsp\; Born to a large musical family\, Rob gave his first solo recital at 10 years old\, performed in the Hollywood Bowl in Los Angeles on the Disney Channel with the Disney Young Musicians Symphony Orchestra\, and founded a piano trio that performed actively throughout his teenage years. Rob has won first prize at numerous music competitions and has soloed with the Utah Symphony\, Utah Valley Symphony\, San Diego Chamber Orchestra\, BYU Philharmonic\, and BYU Chamber Orchestra.<br />\nAs a first violinist of the BYU Chamber Orchestra\, Rob performed in more than twenty cities throughout central and southern Europe\, and as concertmaster of the orchestra\, gave a concert to a sold-out audience in New York&rsquo\;s Carnegie Hall. Rob was awarded full scholarships to attend Brigham Young University and Rice University where he earned a Bachelor&rsquo\;s in Music and Master&rsquo\;s in Music\, respectively.<br />\nWhile studying at Rice\, Rob began covering rock and pop music\, and upon returning to Salt Lake City after graduation\, bought a looper pedal and an amp which he uses to create intricate and stunning arrangements of today and yesterday&rsquo\;s most popular music.</p>\n
LOCATION:Vernon Worthen Park 300 South 400 East St. George
UID:e.1117.8545
SEQUENCE:3
DTSTAMP:20260419T165758Z
URL:https://business.stgeorgechamber.com/events/details/concert-in-the-park-rob-landes-06-13-2016-8545
END:VEVENT

END:VCALENDAR
