BEGIN:VCALENDAR
VERSION:2.0
PRODID:-//ChamberMaster//Event Calendar 2.0//EN
METHOD:PUBLISH
X-PUBLISHED-TTL:P3D
REFRESH-INTERVAL:P3D
CALSCALE:GREGORIAN
BEGIN:VEVENT
DTSTART:20160510T013000Z
DTEND:20160510T030000Z
X-MICROSOFT-CDO-ALLDAYEVENT:FALSE
SUMMARY:Concert in the Park-Randy Linder\, Creedence Clearwater Revival Tribute
DESCRIPTION:When you see THE RANDY LINDER BAND performing classic rock it will be a concert style performance whether the venue is large or small. Randy brings 40 years of experience to the stage and you can tell that this band truly loves playing the popular favorites that make it onto the show list.\n\nThe show includes hits from Bad Company\, Bob Seger\, The Doors\, Creedence Clearwater Revival \, ZZ Top\, The Beatles\, John Mellencamp\, The Eagles\, Tom Petty\, The Rolling Stones\, Bruce Springsteen\, Lynyrd Skynyrd\, Steppenwolf\, Jimi Hendrix\, Santana\, Stevie Ray Vaughn\, George Thorogood and many more.\n\nThe CCR Tribute Show is also available with this band format.\n\nThis act is perfect for festivals\, Casino Cabaret Rooms\, Fairs\, Clubs\, and private parties.
X-ALT-DESC;FMTTYPE=text/html:<p>When you see THE RANDY LINDER BAND performing classic rock it will be a concert style performance whether the venue is large or small. Randy brings 40 years of experience to the stage and you can tell that this band truly loves playing the popular favorites that make it onto the show list.<br />\nThe show includes hits from Bad Company\, Bob Seger\, The Doors\, Creedence Clearwater Revival \, ZZ Top\, The Beatles\, John Mellencamp\, The Eagles\, Tom Petty\, The Rolling Stones\, Bruce Springsteen\, Lynyrd Skynyrd\, Steppenwolf\, Jimi Hendrix\, Santana\, Stevie Ray Vaughn\, George Thorogood and many more.<br />\nThe CCR Tribute Show is also available with this band format.<br />\nThis act is perfect for festivals\, Casino Cabaret Rooms\, Fairs\, Clubs\, and private parties.</p>\n
LOCATION:Vernon Worthen Park 300 South 400 East St. George
UID:e.1117.8544
SEQUENCE:3
DTSTAMP:20260419T183929Z
URL:https://business.stgeorgechamber.com/events/details/concert-in-the-park-randy-linder-creedence-clearwater-revival-tribute-05-09-2016-8544
END:VEVENT

END:VCALENDAR
